BEGIN:VCALENDAR
VERSION:2.0
PRODID:-//BPW Switzerland//NONSGML kigkonsult.se iCalcreator 2.16.12//
METHOD:PUBLISH
X-MS-OLK-FORCEINSPECTOROPEN:TRUE
BEGIN:VEVENT
UID:20260422T114528CEST-1914BHSdMT@BPW Switzerland
DTSTAMP:20260422T094528Z
DESCRIPTION: \n\nAm Donnerstag\, 8. Dezember\, ist Vollmond und Saisoneröff
 nung in Garfiun\, Klosters. Daher haben wir uns entschieden\, standesgemäs
 s mit dem Pferdeschlitten vorzufahren.\nIn Garfiun haben wir uns einen Rau
 m im Parterre reservieren lassen\, sodass auch Gehbehinderte beim Anlass d
 abei sein können. Im Zweifelsfall meldet bitte eure Bedürfnisse an davos@b
 pw.ch. Wir finden einen Weg für alle. \nSchenken macht Freude\, ist der Vo
 rstand überzeugt. Darum wollen wir an dieser weihnächtlichen Tradition fes
 thalten. Wichtig ist dabei vor allem der Akt des Schenkens. Darum sind all
 e BPW aufgefordert ein kleines Geschenk im Wert von maximal 20 Franken mit
 zubringen. Diese Geschenke werden dann unter den BPW getauscht\, sodass je
 de etwas bringt und jede etwas nach Haus nehmen darf. Wir sind neugierig u
 nd gespannt\, was die Kreativität und der Ideenreichtum der BPW dieses Jah
 r zu bewerkstelligen imstande sind.  \n\nWir fahren um 18 Uhr mit dem Pfer
 deschlitten ab Doggilochstrasse 1 in Klosters los. Autos können gleich da 
 abgestellt werden. Für diejenigen\, denen das zu früh ist: Sie können noch
  um 18.30 Uhr in Monbiel zusteigen. Wer diese Möglichkeit nutzen will\, gi
 bt das bitte im Nuudel an. Ab circa 21 Uhr steht die Kutsche wieder bereit
  und fährt uns zurück zum Ausgangspunkt. \n\nDer Preis für den ganzen Aben
 d beläuft sich auf 94 Franken und beinhaltet den Transport sowie ein Überr
 aschungs-3-Gang-Menue aber keine Getränke.\n\nDie Anmeldung ist aufgeschal
 tet und muss bis spätestens 5. Dezember erfolgen.\n
DTSTART:20221208T180000
DTEND:20221208T223000
ORGANIZER:MAILTO:BPW Switzerland <davos@bpw.ch>
SUMMARY:Weihnachtsfeier
END:VEVENT
END:VCALENDAR
