BEGIN:VCALENDAR
VERSION:2.0
PRODID:-//BPW Switzerland//NONSGML kigkonsult.se iCalcreator 2.16.12//
METHOD:PUBLISH
X-MS-OLK-FORCEINSPECTOROPEN:TRUE
BEGIN:VEVENT
UID:20260422T125451CEST-1419v1LEAN@BPW Switzerland
DTSTAMP:20260422T105451Z
DESCRIPTION:\n \n\nIlanzer Sommer\n\nBPW-Baden-Mitglied Franziska Müller Ti
 berini lädt ein zum Ilanzer Sommer.\nDer Dialog in der Gesellschaft wird i
 mmer zentraler und die Tage in Ilanz geben viele Möglichkeiten für Inspira
 tion \nim persönlichen aber auch in beruflichen\, politischen und gesellsc
 haftlichen Bereichen. \n \nSie führe zwei Workshops durch zum Thema Kommun
 ikation\, die sich für alle und insbesondere auch für KMU-Frauen \neignen.
  Kommunikation ist für KMUs zentral und wird leider als Erfolgsfaktor imme
 r wieder unterschätzt. Im Speziellen in der Nachfolge. \n\nDer erste Erfol
 greich Kommunizieren in Klein- und Familienunternehmen findet am Donnersta
 g\, 11. August\, um 9 Uhr statt.\nEinen Tag später\, am Freitag\, 12. Augu
 st\, um 9 Uhr leitet sie das Atelier Kommunikation im Alltag – Einfach und
  doch so schwierig!\n\n\n
DTSTART:20220811T000000
DTEND:20220812T235900
ORGANIZER:MAILTO:BPW Switzerland <davos@bpw.ch>
SUMMARY:Ilanzer Sommer
END:VEVENT
END:VCALENDAR
