BEGIN:VCALENDAR
VERSION:2.0
PRODID:-//BPW Switzerland//NONSGML kigkonsult.se iCalcreator 2.16.12//
METHOD:PUBLISH
X-MS-OLK-FORCEINSPECTOROPEN:TRUE
BEGIN:VEVENT
UID:20260422T125712CEST-8838Vt9gTb@BPW Switzerland
DTSTAMP:20260422T105712Z
DESCRIPTION:Oft unterbrechen Frauen aus familiären Gründen die Berufstätigk
 eit oder sie sind in Teilzeitanstellungen tätig. Unterbrechungen oder die 
 Arbeit in kleinen Pensen führen oft zu Lücken in der Altersvorsorge\, die 
 sich später schmerzlich bemerkbar machen. Um unnötigen Engpässen vorzubeug
 en sollten sich Frauen schon in jungen Jahren mit dem Thema Altersvorsorge
  beschäftigen. Wie sie das am besten tun und welche Fallstricke es zu beac
 hten gilt\, besprechen die BPW Davos-Kloster an diesem Abend. Mit Tanja Sc
 humacher und Julia Conrad\, beide Finanzexpertinnen bei der Graubündner Ka
 ntonalbank\, konnten die BPW zwei ausgewiesene Kennerinnen der Materie gew
 innen\, die gerne ihr Wissen weitergeben. Der Anlass ist öffentlich und mö
 glichst viele Frauen sollten die Gelegenheit nutzen\, sich mit dem Thema a
 useinander zu setzen und sich wertvolle Tipps zu holen.\n\nTreffpunkt: Hot
 el Sport\, Klosters \nPreis 35.- Franken pro Person\nHier geht's zur Anmel
 dung
DTSTART:20220907T190000
DTEND:20220907T210000
ORGANIZER:MAILTO:BPW Switzerland <davos@bpw.ch>
SUMMARY:Machst du Pause\, macht auch deine Vorsorge Pause
END:VEVENT
END:VCALENDAR
