BEGIN:VCALENDAR
VERSION:2.0
PRODID:-//BPW Switzerland//NONSGML kigkonsult.se iCalcreator 2.16.12//
METHOD:PUBLISH
X-MS-OLK-FORCEINSPECTOROPEN:TRUE
BEGIN:VEVENT
UID:20260422T102329CEST-2269DrEFRw@BPW Switzerland
DTSTAMP:20260422T082329Z
DESCRIPTION: \n \nBPW Davos Klosters ...\n... am Equal Pay Day Lunch 2011 i
 m Café Weber\nWir treffen uns am 11. März 2011 ab 11.30 - 14.00 Uhr im Caf
 é Weber \n\n\n	zum Mittagessen\n	um über Equal Pay zu informieren\n	um die Au
 fmerksamkeit auf Equal Pay zu ziehen\n	um rote Taschen\, Flyers und Pins zu
  verteilen\n\n\nEqual Pay Day Menu-Angebot im Café Weber \n\nChicken Tando
 ori mit Salat\nNormalpreis Fr. 22.50\nFrauenpreis -19.3%  Fr. 18.15\nAngeb
 ot ab 11 Uhr den ganzen Tag erhältlich\n\nAnmeldung und Platzreservation ü
 ber Doodle\n \n \n... am Abend im Kino Arkaden\nKommt mit - lasst uns mit 
 Freude weitermachen!\n\n\n\n\nBPW Davos Klosters und Cinema Arkaden Davos 
 präsentieren:\nWe want sex - Es geschah in Dagenham\n\nFilm von Nigel Cole
 \, Regisseur der Calendar Girls\n\nWenn Rita und ihre Kolleginnen im briti
 schen Ford-Werk Dagenham häufig nur in Unterwäsche bekleidet arbeiten\, ha
 t das selbst Ende der 60er wenig mit der anrollenden Sexwelle zu tun\, son
 dern vielmehr mit der unerträglich heissen und stickigen Luft in der Fabri
 khalle. Bald platzt den Arbeiterinnen endgültig der Kragen.\n\nAngeführt v
 on der beherzten Rita treten die Frauen in Streik: bessere Arbeitsbedingun
 gen und „equal pay“ - gleicher Lohn für gleiche Arbeit - so ihre simplen\,
  aber prägnanten Forderungen.\n\nDoch von der Konzernleitung und ihren Ehe
 männern schlägt den Frauen heftiger Widerstand entgegen. Da tritt von uner
 warteter Seite Schützenhilfe ein.\n\nDer Film erzählt die wahre Begebenhei
 t der streikenden Arbeiterinnen der Ford-Werke in Dagenham/London aus dem 
 Jahre 1968.\n\nDie Stimme zum Film:\n\nDer Film ist absolut sehenswert\, d
 a er ohne übertriebene Gesten auskommt. Es wird klar\, mit welchen Schwier
 igkeiten die Frauen zu kämpfen hatten\, dabei kommt auch die Sichtweise de
 r Männer nicht zu kurz. Die Rollen sind allesamt mit Top-Schauspielern und
  Schauspielerinnen besetzt\, u. a. mit Bob Hoskins\, der die Rolle des Gew
 erkschaftsvertreters Albert sehr überzeugend darstellt.\n\nMeine Szene des
  Films: Als Albert erklärt\, warum er die Frauen in ihrem Kampf unterstütz
 t.\nIch wünsche mir in der heutigen Zeit mehr Männer wie ihn\, die den Mut
  haben\, unpopuläre Entscheidungen zu treffen.\n\nSabine Osmanovic\, BPW G
 ermany/Vizepräsidentin\n\nPlatzreservation über Doodle\n \nFreitag\, 11. M
 ärz 2011\, Cinema Arkaden\, Davos Platz\nBeginn der Vorstellung: 20.30 Uhr
 \nEintrittspreis: CHF 18.00\n\n
DTSTART:20110311T113000
DTEND:20110311T140000
LOCATION:Davos Dorf\, Café Weber und Davos Platz\, Cinema Arkaden
ORGANIZER:MAILTO:BPW Switzerland <davos@bpw.ch>
SUMMARY:Equal Pay Day 2011 - Opinionleader tragen rot!
END:VEVENT
END:VCALENDAR
