BEGIN:VCALENDAR
VERSION:2.0
PRODID:-//BPW Switzerland//NONSGML kigkonsult.se iCalcreator 2.16.12//
METHOD:PUBLISH
X-MS-OLK-FORCEINSPECTOROPEN:TRUE
BEGIN:VEVENT
UID:20260422T114538CEST-0567p4vpCL@BPW Switzerland
DTSTAMP:20260422T094538Z
DESCRIPTION:Wer kennt Couscous? Das nordafrikanische Nationalegericht ist s
 eit 2020 auf der Repräsentativen Liste des immateriellen Kulturerbes der M
 enschheit verzeichnet.\nDa kann es nicht falsch sein\, wenn sich der Vorst
 and an diesem einfachen\, aber köstlichen Gericht versucht und die Mitglie
 der zum Kosten einlädt.\n\nUnd wenn wir schon thematisch in Nordafrika sin
 d: Wir veranstalten wieder einen Bazar. Alle sind eingeladen\, etwas Selbs
 tgemachtes/gezogenes mitzubringen und zum Verkauf anzubieten. Der Erlös wi
 rd zu Gunsten unseres Jahresprojekts zur Seite gelegt. Zur Erinnerung: Es 
 handelt sich dieses Mal um die BPW Nigeria\, die von uns unterstützt werde
 n. \n\nHier geht's zur Anmeldung. \nWir bilden wieder Fahrgemeinschaften. 
 Der Treffpunkt ab Davos ist am Bahnhof Dorf um 18.30 Uhr.
DTSTART:20221102T190000
DTEND:20221102T220000
ORGANIZER:MAILTO:BPW Switzerland <davos@bpw.ch>
SUMMARY:Der Vorstand kocht
END:VEVENT
END:VCALENDAR
