BEGIN:VCALENDAR
VERSION:2.0
PRODID:-//BPW Switzerland//NONSGML kigkonsult.se iCalcreator 2.16.12//
METHOD:PUBLISH
X-MS-OLK-FORCEINSPECTOROPEN:TRUE
BEGIN:VEVENT
UID:20260422T125502CEST-1022PASwud@BPW Switzerland
DTSTAMP:20260422T105502Z
DESCRIPTION:Zusammen mit den anderen Frauenorganisationen von Davos sind BP
 W Davos Klosters zum Regionaltreffen der Soroptimistinnen eingeladen. \nBe
 i den Referaten des Abends geht es um «Häusliche Gewalt».\n\nHäusliche G
 ewalt\, ob physisch\, sexuell\, sozial oder ökonomisch\, stellt eine Mens
 chenrechts- verletzung dar. Wir Soroptimistinnen stehen gemeinsam für das
  Grundrecht «null Toleranz für Gewalt» ein. Zwei erfahrene Fachfrauen inf
 ormieren uns aus verschiedenen Perspektiven in ihren Fachreferaten. Julia 
 Müller erörtert als Juristin die politischen Aktionen im Rahmen der «Ist
 anbul Convention»\, Bettina Melchior legt als Leiterin der Opferhilfe Grau
 bünden die Situation in unserem Kanton dar. Die von Melanie Salis moderie
 rte Podiumsdiskussion nimmt unsere Fragen auf. Im gegenseitigen Austausch 
 vertiefen wir unser Wissen und schärfen unsere Wahrnehmung.\n\nNach einer
  Begrüssung durch Carin Muenzel\, Präsidentin SI Club Davos Prättigau un
 d einem Grusswort von Philipp Wilhelm\, Landammann von Davos wird ab 18.30
  Uhr Julia Müller\, SP Grossrätin und Mitglied Kommission für Justiz un
 d Sicherheit (KJS) Bettina Melchior\, Leiterin Opferhilfe Graubünden spre
 chen.\n\nUm 19 Uhr beginnt eine Podiumsdiskussion moderiert von Melanie Sa
 lis\, SI Club Chur. Teilnehmende sind Sabina Altermatt\, SOA\, Koordinatio
 nsstelle Häusliche Gewalt\; Roman Grenal\, Beratungsstelle für gewaltaus
 übende Personen\; Bettina Melchior\, Opferhilfe Graubünden\; Julia Müll
 er\, SP Grossrätin und Mitglied KJS.\n\nAb 20 Uhr stellt Brigitte Mantill
 eri\, Präsidentin SI Union\, das Engagement der Soroptimistinnen an den O
 range Days vor bevor es zum gemeinsamen Apéro geht. \nDer Kostenbeitrag fu
 ̈r den Apero beträgt 30 Sfr pro Person. \n
DTSTART:20221003T180000
DTEND:20221003T210000
ORGANIZER:MAILTO:BPW Switzerland <davos@bpw.ch>
SUMMARY:Angstfrei – gewaltfrei
END:VEVENT
END:VCALENDAR
