BEGIN:VCALENDAR
VERSION:2.0
PRODID:-//BPW Switzerland//NONSGML kigkonsult.se iCalcreator 2.16.12//
METHOD:PUBLISH
X-MS-OLK-FORCEINSPECTOROPEN:TRUE
BEGIN:VEVENT
UID:20260422T125451CEST-7693JLpdpT@BPW Switzerland
DTSTAMP:20260422T105451Z
DESCRIPTION: \nEine der Stärken von BPW ist die internationale Vernetzung d
 er Frauen untereinander. Zwischen den weltweiten Kongressen werden in rege
 lmässigen Abständen regionale Treffen organisiert.\nIm August findet die R
 egionalkonferenz Afrika statt.
DTSTART:20220825T000000
DTEND:20220827T235900
ORGANIZER:MAILTO:BPW Switzerland <davos@bpw.ch>
SUMMARY:Regionalkonferenz BPW Afrika
END:VEVENT
END:VCALENDAR
