BEGIN:VCALENDAR
VERSION:2.0
PRODID:-//BPW Switzerland//NONSGML kigkonsult.se iCalcreator 2.16.12//
METHOD:PUBLISH
X-MS-OLK-FORCEINSPECTOROPEN:TRUE
BEGIN:VEVENT
UID:20260422T112823CEST-7806XWSAMs@BPW Switzerland
DTSTAMP:20260422T092823Z
DESCRIPTION:Wir BPW Frauen erhalten zusammen mit jenen der Clubs von Chur\,
  Engiadina\, Glarus\, Rapperswil und Rheintal einen exklusiven Einblick hi
 nter die Kulissen des Jahrestreffens des World Economic Forum. Jedes Jahr 
 jeweils im Januar sind deswegen die Augen der Welt auf Davos gerichtet. Do
 ch was steckt hinter dem Anlass und was bedeutet er für Davos und die Nach
 bargemeinde Klosters? Verschiedene Personen mit Erfahrung aus erster Hand 
 werden uns durch einen spannenden und abwechsungsreichen Nachmittag und Ab
 end begleiten.\n\nNach dem Eintreffen um 14.30 Uhr im Kongresszentrum und 
 der Begrüssung durch unsere Präsidentin Lydia Buchli stellt Nicola Port\, 
 Chief Legal Officer beim WEF die Organisation und ihre Mission auf. Anschl
 iessend plaudern wir mit Alt-Landammann Hans Peter Michel darüber\, was es
  in Sachen Sicherheit braucht\, wenn die wichtigen Persönlichkeiten anreis
 en oder wenn sich verfeindete Nationen gegenüberstehen. Unser Mitglied Bea
 trice Meisser vermietet Jahr für Jahr während des Jahrestreffens Unterkünf
 te und Lokalitäten. Auch sie hat Einiges zu berichten.\nZu guter Letzt füh
 rt uns Dagmar Weber\, Leiterin von Davos Congress durch die Räume des Davo
 ser Kongresszentrums. Niemand weiss besser wer\, wo\, wann und was.\n\nZum
  gemütlichen Teil des Anlasses begeben wir uns ins Hotel Waldhuus\, wo uns
  um 18.30 Uhr ein zauberhafter Apéro erwartet und machen anschliessend wei
 ter mit einem magischen z'Nacht. Denn über den ganzen Abend verblüfft\, en
 tführt und verzaubert uns der bekannte Zauberkünstler Tino Plaz.\n\nDie Ko
 sten für diesen spannenden Anlass belaufen sich auf 125 Franken pro Person
  (ohne Getränke beim Abendessen). Anmeldeschluss ist 31. Juli 2023.\nNach 
 Eingang der Anmeldung an info@bpw-davos.ch wird eine Rechnung versandt. Di
 e Anmeldung gilt erst als erfolgt\, wenn die Zahlung eingetroffen ist. Nac
 hmeldungen sind mit einem Zuschlag von 10 Franken bis zum 20. August mögli
 ch.\nBei Abmeldungen wird bis zum 20. August die Hälfte des einbezahlten B
 etrags zurückerstattet. Nach diesem Datum müssen wir leider den vollen Bet
 rag verrechnen.  \n\nIm Hotel Waldhuus sind Zimmer für jene reserviert sin
 d\, die gerne die Nacht in Davos verbringen wollen. Wir haben einen Spezia
 lpreis von 160 Franken pro Zimmer und Nacht in Einzelbelegung ausgemacht. 
 210 Franken ist der Preis bei Doppelbelegung. Wer von dieser Möglichkeit G
 ebrauch machen möchte\, melde sich bitte direkt unter waldhuus@mountainhot
 els.ch mit dem Vermerk BPW an.\nÜbernachtungsmöglichkeiten gibt es aber au
 ch in Klosters in der Sport Lodge unseres Mitglieds Michaela Wolf. Den BPW
  bietet sie einen Spezialpreis von 100 Franken im Einzelzimmer\, 180 Frank
 en für das Doppelzimmer. Immer inklusive Frühstück und Kurtaxen. Reservati
 onen direkt bei welcome@sport-lodge.ch\n \n\nFür die Übernachtungsgäste st
 eht am nächsten Tag das ganze umfassende Angebot von Davos zur Verfügung.
 \nSpeziell freut es uns\, euch 1560 Fashion Point unseres Mitglieds Conny 
 Greiner empfehlen zu dürfen. Conny legt Wert darauf\, dass bei aller Freud
 e an der Mode Nachhaltigkeit und soziale Verantwortung nicht vergessen. De
 n Teilnehmerinnen des Regionaltreffens offeriert sie 10 Prozent Rabatt auf
  ihre Preise.\nIn Davos gibt es auch einen Golfplatz. BPW\, die am Samstag
  gerne miteinander spielen wollen\, melden sich bitte auf info@bpw-davos.c
 h mit Name\, Adresse\, Club\, Mobilnummer für die Golfrunde vom Samstag an
 .\nSehr zu empfehlen ist auch das Alpinum Schatzalp\, wo selbst im Septemb
 er noch Blüten zu finden sind.\nFür einen kulturellen Abstecher eignet sic
 h das Kirchnermuseum\, wo gerade «Expressionismus! Werke aus der Sammlung 
 Horn» gezeigt wird.\nIm September ist der Sommer auf unserer Höhe bereits 
 wieder vorbei und in Klosters wird Alpabzug gefeiert. Auch dabei handelt e
 s sich um einen lohnenden Abstecher. \n \n\nFür alle anderen\, sorgen wir 
 dafür\, dass der Bus ab Davos Platz Hertistrasse (Bus Nr. 304 um 22.10 Uhr
 ) auf den letzten Zug ab Davos Platz (22.22 Uhr) in Richtung Landquart und
  Samedan erreichbar ist. \nWer mit dem Auto kommt\, kann dieses entweder b
 eim Kongresszentrum und beim Hotel abstellen.\n\nWer nun noch offene Frage
 n hat\, wendet sich damit an info@bpw-davos.ch. Alle anderen melden sich b
 is 31. Juli bei der gleichen Adresse info@bpw-davos.ch an.\n\n \n
DTSTART:20230915T143000
DTEND:20230915T220000
ORGANIZER:MAILTO:BPW Switzerland <davos@bpw.ch>
SUMMARY:Regionaltreffen Anmeldung geschlossen
END:VEVENT
END:VCALENDAR
