BEGIN:VCALENDAR
VERSION:2.0
PRODID:-//BPW Switzerland//NONSGML kigkonsult.se iCalcreator 2.16.12//
METHOD:PUBLISH
X-MS-OLK-FORCEINSPECTOROPEN:TRUE
BEGIN:VEVENT
UID:20260422T120448CEST-6092nv8Per@BPW Switzerland
DTSTAMP:20260422T100448Z
DESCRIPTION: \n \n\nDie Rechtsanwältin Annemarie Hew referiert zu ihrem Spe
 zialgebiet und beleuchtet das neue Ehe- und Erbrecht. \nDa es sich hier um
  Informationen handelt\, die für alle wichtig sind\, öffnen wir das Progra
 mm zur Teilnahme für alle. Gäste sind also willkommen. \n\nWir treffen uns
  dazu im Hotel Central an der Tobelmühlestrasse 1 in Davos Platz.\n\nZu es
 sen gibt es zum Preis von 40 Franken:\n\n Tomatencremesuppe mit Pesto\n***
 \nRindsgeschnetzeltes Stroganoff mit Peperoni und Champignons\nTrockenreis
 \nGlasierte Karotten\noder alternativ\nGemüsestrudel mit Safransauce\n\n\n
 \nHier geht es zur Anmeldung. Anmeldeschluss ist am Montag\, 9. Januar.\n
DTSTART:20230111T190000
DTEND:20230111T210000
ORGANIZER:MAILTO:BPW Switzerland <davos@bpw.ch>
SUMMARY:Das neue Erbrecht
END:VEVENT
END:VCALENDAR
