BEGIN:VCALENDAR
VERSION:2.0
PRODID:-//BPW Switzerland//NONSGML kigkonsult.se iCalcreator 2.16.12//
METHOD:PUBLISH
X-MS-OLK-FORCEINSPECTOROPEN:TRUE
BEGIN:VEVENT
UID:20260422T125244CEST-0264K4vNb5@BPW Switzerland
DTSTAMP:20260422T105244Z
DESCRIPTION:\nBPW Europe Learning for Leadership are delighted to announce 
 the next round of BPW Leadership Training for Women!\n\nOur three half-day
  interactive online training will be held on Fridays\, September 23rd\, 27
 th and October 7th\, 2022 from 12:30-17:00 CET.\n\nWhat is the workshop ab
 out?\n\nThis inspirational and practical program is designed to empower wo
 men in achieving their personal and professional goals and enhance their m
 anagement and leadership skills by means of theory\, practical exercises a
 nd shared experience. It will enable you to learn about the different aspe
 cts of leadership and develop your own personal leadership style.\n\nIs th
 is workshop for me?\n\nIt is appropriate for women in leadership positions
 \, business owners\, entrepreneurs\, start-uppers and ambitious women who 
 are ready to take the next step in their professional career.\n\nMore deta
 ils on the program content and registration can be found on www.bpw-lll.we
 ebly.com Places are limited\, so hurry up and register.\n\nBest regards\n
 \nConny Montague\, Anu Viks\, Ann Wood\, Petya Barraud\, Sabine Grosser\, 
 Sheerah Kim\nBPW Europe Learning for Leadership\n\nTo the official invitat
 ion \n 
DTSTART:20220923T123000
DTEND:20221007T170000
LOCATION:Online
ORGANIZER:MAILTO:BPW Switzerland <davos@bpw.ch>
SUMMARY:BPW Europe Leadership for Women
END:VEVENT
END:VCALENDAR
