BEGIN:VCALENDAR
VERSION:2.0
PRODID:-//BPW Switzerland//NONSGML kigkonsult.se iCalcreator 2.16.12//
METHOD:PUBLISH
X-MS-OLK-FORCEINSPECTOROPEN:TRUE
BEGIN:VEVENT
UID:20260422T115106CEST-9827RZ5SLV@BPW Switzerland
DTSTAMP:20260422T095106Z
DESCRIPTION:\nWe are happy to announce that we're fully booked and the even
 t is sold out!\n\nIf you cannot make it to the event\, please inform the m
 ain organiser Sheerah Kim: sheerah.kim@bpw.ch\n\nWe are happy to announce 
 that we're fully booked and the event is sold out. We offer a waiting list
  for opening spots. Please feel free to share with us your contact informa
 tion: https://forms.gle/JXqqUQkLBsY9uhhDA\nIf you cannot make it to the ev
 ent\, please inform the main organiser Sheerah Kim: sheerah.kim@bpw.ch\n\n
 This is a in-person event hosted and sponsored by Young BPW Switzerland wi
 th interactive Fireside Chats and a Female Founders Speed Dating.\nThe eve
 nt will be held in English and is open to all backgrounds\, genders and ag
 es.\n\nPlease find the official invitation here\n\nDate: Friday\, 18th Nov
 ember 2022\, 18:00h to ca. 21.30h\nThe Venues: Impact Hub Zurich - Viadukt
  Bogen D\n\nKeynote Speaker\n\nRosmarie Michel\, Receiver of the honorary 
 SEF Swiss Economic Forum Women Award 2021\, Founder and President of Think
  Tank Female Shift\n\nFireside Chat Speakers\n\n1) FROM CORPORATE TO START
 -UP:\nDr. Marta Ra (Co-Founder of Women in Sustainable Finance WISF)\, Mel
 anie Bloch (Founder of Melanie Bloch Business Transformation)\n\n2) FORMIN
 G REALISTIC ASPIRATIONS AND VISIONS:\nAnna Stando (Founder of My Gratitude
  Challenge\, Co-Founder of Lean In Switzerland)\, Iwona Fluda (Founder of 
 Ministry of Creativity LLC\, CEO of Organic Cosmetics)\n\n3) #BREAKTHEBIAS
  AS FEMALE FOUNDERS:\nJennifer Webb (Investment Director at Swisscom Ventu
 res)\, Sophie Neuhut (Co-Founder of Alpine Angel Investors)\n\n4) OVERCOMI
 NG FAILURE\, I F***D UP STORIES:\nArjanna van der Plas (Founder of Women's
  Hub Zurich)\, Amber Mahood (Founder of FOUNDglobal)\n \n\nAgenda\n\n\n17:
 45 Registration Desk\n18:00 Welcome & Keynote\n18:30 Fireside Chats\n20:00
  Apéro & Speed Dating\n20:45 Closing\n21:30 Side event: Girls Night Out (o
 ptional)\n\nThis is a collaboration event with Impact Hub Zurich and Femal
 e Founders Initiative.\n\n\n\n
DTSTART:20221118T180000
DTEND:20221118T203000
LOCATION:Impact Hub Zurich 
ORGANIZER:MAILTO:BPW Switzerland <davos@bpw.ch>
SUMMARY:National Young BPW Event: Female Founders Night
END:VEVENT
END:VCALENDAR
