BEGIN:VCALENDAR
VERSION:2.0
PRODID:-//BPW Switzerland//NONSGML kigkonsult.se iCalcreator 2.16.12//
METHOD:PUBLISH
X-MS-OLK-FORCEINSPECTOROPEN:TRUE
BEGIN:VEVENT
UID:20260422T113222CEST-7325szzoxZ@BPW Switzerland
DTSTAMP:20260422T093222Z
DESCRIPTION:Zur Kerzenlichtfeier treffen wir uns am Mittwoch\, 8. Februar\,
  um 19 Uhr am Fuss der Buolstrasse in Davos und wandern dann gemeinsam hoc
 h zum Waldhotel\, wo uns ein feines Z'nacht erwartet. Parkiert werden kann
  am Anfang der Scalettastrasse. \n\nAuf dem Menue zu 40 Franken steht:\n\n
  Variation von der gelben und roten Rande\, Randen Mousse\, Püree und Gel 
 an süsser Pumpernickel Erde und knuspriger Petersilie \n***** \nPouletbrus
 t suprème an Calvados Rahm Sauce mit blauem Kartoffelpüree und Romanesco R
 öschen  (Menue 1)\noder vegetarisch\nScheibe von gebackenem Quinoa Tricolo
 re an Estragon Rahmsauce mit Urkarotten-Püree an Minikarotten\, Kerbel und
  roter Peperoncini (Menue 2)\n*****  \nHausgemachtes Bratapfel Tiramisu mi
 t marinierten Apfelstücken und Apfelpüree \n\nBitte gebt eure Präferenz be
 i der Anmeldung an und meldet euch bis Sonntag\, 5. Februar\, an.\nWenn je
 mand den Weg hinauf zum Waldhotel nicht zu Fuss schafft\, es gibt Parkmögl
 ichkeiten beim Hotel.\n\n\n\n\n\n\n\n \n \n\n \n\n 
DTSTART:20230208T190000
DTEND:20230208T220000
ORGANIZER:MAILTO:BPW Switzerland <davos@bpw.ch>
SUMMARY:Kerzenlichtfeier
END:VEVENT
END:VCALENDAR
