BEGIN:VCALENDAR
VERSION:2.0
PRODID:-//BPW Switzerland//NONSGML kigkonsult.se iCalcreator 2.16.12//
METHOD:PUBLISH
X-MS-OLK-FORCEINSPECTOROPEN:TRUE
BEGIN:VEVENT
UID:20260422T120256CEST-7231TR5zUL@BPW Switzerland
DTSTAMP:20260422T100256Z
DESCRIPTION:Wir treffen uns in der Chesa Selfranga in Klosters.\nParkplätze
  gibt's gleich gegenüber des Hauses. Dennoch empfehlen wir wie immer\, Fah
 rgemeinschaften zu bilden.\n\nAuf dem Menue steht: \nNüsslisalat mit Ei\nS
 paghetti Piccata (Kalb) zu Fr. 48.-\n\noder die vegetarische Variante \nAu
 berginenpiccata zu Fr. 35.-\n\nEin eventuelles Dessert wird zusätzlich ver
 rechnet.\n\n\nBitte meldet euch an. Der Nuudel ist aufgeschaltet.\n
DTSTART:20230308T190000
DTEND:20230308T220000
ORGANIZER:MAILTO:BPW Switzerland <davos@bpw.ch>
SUMMARY:Mitgliederversammlung
END:VEVENT
END:VCALENDAR
