BEGIN:VCALENDAR
VERSION:2.0
PRODID:-//BPW Switzerland//NONSGML kigkonsult.se iCalcreator 2.16.12//
METHOD:PUBLISH
X-MS-OLK-FORCEINSPECTOROPEN:TRUE
BEGIN:VEVENT
UID:20260424T130951CEST-2699TTNKvU@BPW Switzerland
DTSTAMP:20260424T110951Z
DESCRIPTION:Judith Baumberger nimmt uns bei ihrem Einführungsreferat mit in
  ihre Welt und ihre Berufung. \n\nDiese liegt momentan bei der AO Foundati
 on. Darum wird uns auch diese näher vorgestellt. \n\nManuela Ernst\, Senio
 r Project Leader Concept Development am AO Research Institute\, dem zur AO
  Stiftung gehörenden Forschungsinstitut\, bringt uns in einem Referat die 
 Stiftung ihre Tätigkeit und ihre Aussichten näher: Die AO Foundation ist e
 ine medizinsch ausgerichtete\, unabhängige Nonprofit-Organisation unter de
 r Leitung von international renommierten Fachärzten für Traumatologie und 
 Erkrankungen des Bewegungsapparates. Sie verfügt über ein globales Netzwer
 k von über 460'000 Fachkräften des Gesundheitswesens. Jedes Jahr bieten si
 e über 775 Weiterbildungsveranstaltungen auf der ganzen Welt an. Sie werde
 n von fast 7000 Fakultätsmitgliedern unterstützt und werden von über 98'00
 0 Teilnehmern besucht. Die AO Stiftung hat rund 18'000 Chirurgen als Mitgl
 ieder\, die in den Bereichen Trauma-\, Wirbelsäulen-\, Schädel-Kiefer-Gesi
 chtschirurgie-\, Veterinär- und Wiederherstellungschirurgie tätig sind.\nB
 ei der AO Stiftung sind Menschen aus der ganzen Welt tätig. Sie haben unte
 rschiedlichen Hintergrund\, verschiedene Talente und Fachgebiete. Was sie 
 verbindet\, ist ihre Leidenschaft für Spitzenleistungen\, ihr Engagement d
 ie Patientenversorgung zu verbessern\, und ihr Verständnis\, dass man geme
 insam stärker sei: Sie sind eine AO-Gemeinschaft. Mehr Informationen sind 
 hier zu finden.\n\nBitte beachtet\, dass die Veranstaltung bereits um 18.3
 0 Uhr beginnt\, also eine halbe Stunde früher als sonst gewohnt.\nWer mit 
 dem Auto kommt\, findet Gratisparkplätze vor dem Gebäude der AO\, Clavadel
 erstrasse 8\, Davos Platz.\nWir werden an der Türe empfangen und ins Audit
 orium geführt. Doch ab 18.30 Uhr ist die Türe geschlossen. Verspätete meld
 en sich unter 079 336 36 19.\nNach der Einführung werden wir verpflegt (Fl
 ying Dinner zu 30 Franken) und haben sicher noch Gelegenheit Fragen los zu
  werden. \n\nAuf eine Anmeldung können wir dennoch nicht verzichten. Bitte
  füllt den Nuudle aus. \n
DTSTART:20230412T183000
DTEND:20230412T220000
ORGANIZER:MAILTO:BPW Switzerland <davos@bpw.ch>
SUMMARY:Einführungsreferat: Judith Baumberger - Meine Berufung
END:VEVENT
END:VCALENDAR
