BEGIN:VCALENDAR
VERSION:2.0
PRODID:-//BPW Switzerland//NONSGML kigkonsult.se iCalcreator 2.16.12//
METHOD:PUBLISH
X-MS-OLK-FORCEINSPECTOROPEN:TRUE
BEGIN:VEVENT
UID:20260420T160734CEST-7830pbhuxV@BPW Switzerland
DTSTAMP:20260420T140734Z
DESCRIPTION:Morgen besteht gemäss Wetterbericht eine erhöhte Gewittergefahr
 . Also bitte alle einen Regenschutz mitbringen\, obwohl wir zumindest eine
 n Teil der Führung unter dem Vordach des Hotels Schatzalp erleben können.
 \n\nZum Sommerhappening geht's hoch zur Schatzalp. Das Sanatorium hoch übe
 r Davos strahlt noch immer einen ganz besonderen Charme aus. Teil davon is
 t ganz bestimmt der botanische Garten Alpinum\, dessen umfangreichen Samml
 ung an Küchenkräutern wir unter der kompetenten Führung von Gartendirektor
  Klaus Oetjan entdecken können. Denn Salbei ist nicht gleich Salbei! \n \n
 Um 19 Uhr treffen sich alle\, ob aus dem Kräutergarten oder direkt von der
  Arbeit für ein gemeinsames\, gediegenes Nachtessen.\n\nIm Angebot ist als
  Vorspeise ein Kräutercremesüppchen mit Steinpilz-Bärwurz Nocken.\nWeiter 
 geht es als Hauptgang mit einem Lachsfilet in einem Mantel aus auserlesene
 n Schatzalpkräutern. Dazu gibt es Karotten und Kartoffel-Kresse Stock.\nDe
 n Abschluss macht als Dessert ein leichter Kräuterbrioche gefüllt mit Vani
 lle-Bourboncreme an Berner Ingwerlikör-Aprikosen.\nDas Ganze zum Preis von
  56.50 exklusive Getränke.\n\nIhr seht also\, das Thema des Abends lässt u
 ns nicht los.\n\nDie Bergfahrt mit der Bahn kostet 10 Franken pro Person\,
  die Talfahrt ist offeriert. Die Bahn fährt alle 15 Minuten (17.45/18.00 o
 der 18.45/19.00) und die Fahrt dauert 4 Minuten. Wir würden auf jene warte
 n\, die es erst auf die 18 Uhr respektive die 19 Uhr-Bahn schaffen. \n\nNu
 n bleibt mir nur noch den Anmeldenuudel anzugeben. Der Vorstand freut sich
  auf euch alle.\n\n \n
DTSTART:20230712T170000
DTEND:20230712T220000
ORGANIZER:MAILTO:BPW Switzerland <davos@bpw.ch>
SUMMARY:Sommerhappening 
END:VEVENT
END:VCALENDAR
