BEGIN:VCALENDAR
VERSION:2.0
PRODID:-//BPW Switzerland//NONSGML kigkonsult.se iCalcreator 2.16.12//
METHOD:PUBLISH
X-MS-OLK-FORCEINSPECTOROPEN:TRUE
BEGIN:VEVENT
UID:20260422T112701CEST-1453ZnI3Ii@BPW Switzerland
DTSTAMP:20260422T092701Z
DESCRIPTION:Pfunzla\, Buschla\, Blooteri \n\nDas sind drei typische Dialekt
 worte aus Liechtenstein. Was sie bedeuten und was daraus alles entstehen k
 ann\, erzählt uns Elisabeth Sela am Clubabend von 23. August ab 19 Uhr im 
 Hotel Sunstar an der Oberwiesstrasse 3 in 7270 Davos Platz.\n\nAuf ihrer W
 ebsite heisst es: «Ich texte\, redigiere\, schreibe Geschichten\, fabulier
 e\, lektoriere\, korrigiere und entwickle in meiner Textwerkstatt aus Idee
 n Produkte.» Seit jeher spielen\, Bücher\, Zeitschriften und die Architekt
 ur für Elisabeth eine zentrale Rolle\, aber auch Papiere\, Farben und Fäde
 n mischen mit.\n\nProgramm\n\nNach dem Apéro mit einem Rosé aus dem Sele-W
 einberg und einem 2-Gang-Menü gibt uns Elisabeth Einblicke in ihr Leben.\n
 \nKosten\n\nCHF 43.– inkl. Apéro\, Leitungswasser und Kaffee/Tee. Weitere 
 Getränke zulasten der Teilnehmerinnen\n\nAn-/Abmeldung\n\nBis spätestens a
 m Sonntag\, 20. August\, unter diesem Nuudel.\n
DTSTART:20230823T190000
DTEND:20230823T220000
ORGANIZER:MAILTO:BPW Switzerland <davos@bpw.ch>
SUMMARY:Einführungsreferat 
END:VEVENT
END:VCALENDAR
