BEGIN:VCALENDAR
VERSION:2.0
PRODID:-//BPW Switzerland//NONSGML kigkonsult.se iCalcreator 2.16.12//
METHOD:PUBLISH
X-MS-OLK-FORCEINSPECTOROPEN:TRUE
BEGIN:VEVENT
UID:20260422T113609CEST-0023auV1Kt@BPW Switzerland
DTSTAMP:20260422T093609Z
DESCRIPTION:Sidonias Ehemann\, Claude Monnard\, leitet selber eine Stiftung
 en und kann uns viel Wissenswertes aus diesem Bereich vermitteln.\n\nWir t
 reffen uns im Hotel Kulm auf dem Wolfgang wo uns hausgemachte Frühlingsrol
 len mit einem Blattsalat erwarten. Zum Dessert ist ein frischer Fruchtsala
 t mit einem Zitronensorbet vorgesehen. Das ganz für Fr. 27.50\, die Geträn
 ke gehen extra. \n\nWie immer gibt es einen Nuudel für die Anmeldung. Dies
 er ist dieses Mal bewusst einfach gehalten. Für Mitfahrgelegenheiten oder 
 -angebote tauscht euch bitte im Kommentarfeld aus. \nHallo Barbara\,\n \n
DTSTART:20231004T190000
DTEND:20231004T220000
ORGANIZER:MAILTO:BPW Switzerland <davos@bpw.ch>
SUMMARY:Alles was es zu Stiftungen zu wissen gibt
END:VEVENT
END:VCALENDAR
