BEGIN:VCALENDAR
VERSION:2.0
PRODID:-//BPW Switzerland//NONSGML kigkonsult.se iCalcreator 2.16.12//
METHOD:PUBLISH
X-MS-OLK-FORCEINSPECTOROPEN:TRUE
BEGIN:VEVENT
UID:20260422T101355CEST-70899UelxN@BPW Switzerland
DTSTAMP:20260422T081355Z
DESCRIPTION:Beim Menue haben wir uns für eine gute\, bewährte Gerstensuppe 
 entschieden.\nWas jedoch die Süssspeisenküche der einzelnen Vorstandsfraue
 n hergeben wird\, davon lassen wir uns überraschen.\n\nWie immer seid ihr 
 alle eingeladen\, den beliebten Bazar mit euren Produkten zu bestücken. Am
  meisten Freude macht immer das Selbstgemachte. Und da wissen wir bereits 
 aus Erfahrung\, dass die BPW hier ungeahnte Talente besitzen. So freuen wi
 r uns wieder auf viel Gluschtiges\, Praktisches oder einfach Schönes. Der 
 Erlös aus dem Bazar geht wie immer zugunsten des Spendenprojektes.\n\nWir 
 treffen uns diese Mal bei Marianne auf dem Kesslerhof in Klosters.\nBitte 
 schreibt euch bis Montag\, 30. Oktober\, im Nuudel ein.
DTSTART:20231101T190000
DTEND:20231101T220000
ORGANIZER:MAILTO:BPW Switzerland <davos@bpw.ch>
SUMMARY:Der Vorstand kocht
END:VEVENT
END:VCALENDAR
