BEGIN:VCALENDAR
VERSION:2.0
PRODID:-//BPW Switzerland//NONSGML kigkonsult.se iCalcreator 2.16.12//
METHOD:PUBLISH
X-MS-OLK-FORCEINSPECTOROPEN:TRUE
BEGIN:VEVENT
UID:20260422T115212CEST-8780jdLLke@BPW Switzerland
DTSTAMP:20260422T095212Z
DESCRIPTION:Zur Weihnachtsfeier versammeln wir uns im Restaurant Teufi im D
 ischmatal. Ein Bus bringt uns um 19 Uhr vom Parsennparkplatz zur Teufi und
  auch wieder zurück. Dort dürfen wir über einen vom Club offerierten Apero
  freuen. Die Fahrt\, Salat\, Älplermagronen und ein Dessert kosten 50 Fran
 ken.\n\nAuch hier bleiben wir den guten Gebräuchen treu und bringen alle e
 in Wichtelgeschenk im maximalen Wert von 20 Franken mit. \n\nAnmeldung bis
  Montagabend\, 4. Dezember\, tragt euch über den Nuudel ein. 
DTSTART:20231206T190000
DTEND:20231206T220000
ORGANIZER:MAILTO:BPW Switzerland <davos@bpw.ch>
SUMMARY:Weihnachtsfeier
END:VEVENT
END:VCALENDAR
