BEGIN:VCALENDAR
VERSION:2.0
PRODID:-//BPW Switzerland//NONSGML kigkonsult.se iCalcreator 2.16.12//
METHOD:PUBLISH
X-MS-OLK-FORCEINSPECTOROPEN:TRUE
BEGIN:VEVENT
UID:20260422T115107CEST-78838ACNat@BPW Switzerland
DTSTAMP:20260422T095107Z
DESCRIPTION: \nDie Empowerment Talks gehen in die nächste Runde! 2023 wird 
 in der Schweiz ein Wahljahr. Und die Frage stellt sich: Wird die „lila Wel
 le“ erneut über den National- und Ständerat schwappen\, wie dies – zuminde
 st im Nationalrat – bereits im Jahr 2019 der Fall war.\n\nWer sind die Fra
 uen\, die bereits heute die Schweizer Politik prägen\, mit ihren Vorstösse
 n und Ideen aufmischen und neue Lösungen aufzeigen? Wie vereinbaren sie Po
 litik\, Beruf\, Familie und ihre eigenen Interessen? Was können wir von ih
 nen lernen? Und: Motiviert uns dies vielleicht selbst für ein Amt zu kandi
 dieren?\n\nDenn Sichtbarkeit findet – und dafür setzen wir uns bei BPW sei
 t Jahren ein – nicht nur in der Berufswelt\, sondern auch in den Gemeindes
 älen\, Regierungsgebäuden und natürlich auf den altehrwürdigen Böden des B
 undeshauses statt.\n\nNathalie Christen\, Journalistin bei Fernsehen SRF u
 nd gewählte Politikjournalistin des Jahres 2020 hat zusammen mit Linda Bou
 rget und Simona Cereghetti im Buch „Schweizer Politfrauen – 21 Portraits d
 ie inspirieren“ Schweizer Politikerinnen - von der Gemeindepräsidentin bis
  zur Bundesrätin - portraitiert.\n\nDrei dieser portraitierten Frauen komm
 en am 31. Oktober 2022 virtuell zum Gespräch mit Nathalie Christen zusamme
 n:\n\n\n	\n	Mattea Meyer\, Co-Präsidentin SP Schweiz\, Nationalrätin der SP\
 , studierte Geografin und Mutter zweier Kinder ZH\n	\n	\n	Diana Gutjahr\, Nat
 ionalrätin der SVP\, Betriebsökonomin FH\, Unternehmerin im Stahlbau (Erns
 t Fischer AG\, Stahl- und Metallbau\, Romanshorn)\, Mutter eines Sohnes\n	
 \n	\n	Claudia Bernet\, Gemeindepräsidentin (die Mitte) Ufhusen LU\, Biobäuer
 in und gelernte Coiffeuse\, Mutter von vier Kindern\n	\n\n\nModeration: Cla
 udine Esseiva und Linda Herzog\n\nHier geht es zur Registierung via Zoom 
 \n\n\nWir freuen uns über Eure zahlreiche Teilnahme!\n\n\n
DTSTART:20221031T120000
DTEND:20221031T131500
LOCATION:Online via Zoom 
ORGANIZER:MAILTO:BPW Switzerland <davos@bpw.ch>
SUMMARY:Schweizer Politfrauen und was wir von ihnen lernen können
END:VEVENT
END:VCALENDAR
