BEGIN:VCALENDAR
VERSION:2.0
PRODID:-//BPW Switzerland//NONSGML kigkonsult.se iCalcreator 2.16.12//
METHOD:PUBLISH
X-MS-OLK-FORCEINSPECTOROPEN:TRUE
BEGIN:VEVENT
UID:20260422T125712CEST-1751KUHMpE@BPW Switzerland
DTSTAMP:20260422T105712Z
DESCRIPTION:\nWe are introducing a regular 'Youngs Meet-up'\n\n\nOn 21st Oc
 tober\, we'll be launching a new regular format with a pilot\nmeeting in B
 erne at BPW Switzerland's central office! It's going to be\na great opport
 unity to actually see the new central office that is\nshared with Alliance
  F and to meet Young BPW Representatives and Young\nBPW Members.\n\nSpecia
 l Thanks to Jasmin Roth\, our Young BPW Representative of BPW Club Solothu
 rn\, who came up with the idea.\n\nWhat is it?\n\nThe idea is that we woul
 d rotate in different locations on a regular\nbasis for a face-to-face mee
 ting in a more casual setting.\n\nNo big speeches or workshop\, mainly foc
 using on networking and bite-size\nknowledge exchange - from Youngs for Yo
 ungs! So please feel free to\nreach out to Sheerah Kim (sheerah.kim@bpw.ch
 ) if you want to host a\nfuture Youngs Meet-up at your club!\n\n- When? Fr
 iday\, 21st October 2022\, 18:30 - ca. 21:00\n\n- Where? BPW Switzerland\,
  Länggassstrasse 10 CH-3012 Bern\, https://g.page/bpw-switzerland?share\n
 \n- Topic? Drinks\, Dinner & Ideation\n\nThis event will be held in Englis
 h. Sheerah Kim will be able to answer questions in German and French as we
 ll.\n \n\nPlease register here \n\n\n\n 
DTSTART:20221021T183000
DTEND:20221021T210000
LOCATION:Büro BPW Switzerland und alliance F
ORGANIZER:MAILTO:BPW Switzerland <davos@bpw.ch>
SUMMARY:Youngs Meet-Up
END:VEVENT
END:VCALENDAR
