BEGIN:VCALENDAR
VERSION:2.0
PRODID:-//BPW Switzerland//NONSGML kigkonsult.se iCalcreator 2.16.12//
METHOD:PUBLISH
X-MS-OLK-FORCEINSPECTOROPEN:TRUE
BEGIN:VEVENT
UID:20260422T125205CEST-8477A2ORVr@BPW Switzerland
DTSTAMP:20260422T105205Z
DESCRIPTION: \n\nBeim der diesjährigen KMU-Frauentagung des Bündner Gewerbe
 verbandes geht es um die Genusskultur und die Nahrungmittelproduktion vor 
 allem in den Südtälern des Kantons. Der Anlass findet im Hotel Laudinella 
 in St Moritz statt. \nAls Referenten sind die folgenden Personen vorgesehe
 n:\n \n\n\n	Leonie Liesch\n	Geschäftsführerin graubündenVIVA\n	 \n	Richard Käg
 i\n	Foodscout \n	 \n	Sabina Cloesters\n	Geschäftsführerin von Cafè Badilatti i
 n Zuoz\n	 \n	Marcel Heinrich\n	Geschäftsführer von den Albula Bergkartoffeln 
 in Filisur\n	 \n	Francesca Märky\n	Gastgeberin Hotel Steffani St. Moritz\n	 \n
 	Kaspar Howald\n	Projektleiter 100% Valposchiavo\n	 \n	Didier Grond\n	Geschäfts
 führer Furnaria Grond SA\n\n\nMehr Informationen sind auf der Webseite des
  Bündner Gewerbeverbandes verfügbar über die man sich auch anmelden kann. 
 Der Anmeldeschluss ist am 22. Oktober. \nhttps://www.kgv-gr.ch/kmu-frauent
 agung.html. \n\nMöglicherweise haben mehrere BPW Lust da hin zu fahren. Fü
 r sie habe ich einen Nuudle eingerichtet. So kann man sich absprechen und 
 möglicherweise Fahrgemeinschaften bilden.\n\n \n
DTSTART:20221028T100000
DTEND:20221028T160000
ORGANIZER:MAILTO:BPW Switzerland <davos@bpw.ch>
SUMMARY:KMU-Frauentagung 2022: 
END:VEVENT
END:VCALENDAR
