BEGIN:VCALENDAR
VERSION:2.0
PRODID:-//BPW Switzerland//NONSGML kigkonsult.se iCalcreator 2.16.12//
METHOD:PUBLISH
X-MS-OLK-FORCEINSPECTOROPEN:TRUE
BEGIN:VEVENT
UID:20260422T113529CEST-1632kHdmHz@BPW Switzerland
DTSTAMP:20260422T093529Z
DESCRIPTION:\n… und dem 25. Jubiläum von BPW Club Oberaargau \n\nBPW Switze
 rland und BPW Club Oberaargau laden herzlich ein zum Wochenende der Delegi
 ertenversammlung 2023 am 2. und 3. Juni 2023 in Langenthal.\n\nIm Einladun
 gsflyer findet ihr alle detaillierten Informationen zum Programm\, den Übe
 rnachtungsmöglichkeiten und den Preisen.\n\nZum Einladungsflyer\n\nDie Anm
 eldung ist ab sofort unten auf dieser Seite möglich. Bis und mit 5. Mai 20
 23 gelten die Frühbuchertarife. Um vom Frühbuchertarif zu profitieren\, ge
 ben Sie beim Kauf ihres Tickets bitte den Rabattcode 'DV23' ein und klicke
 n auf das rote Plus.\n\nZum Programm\n\nFreitag\, 2. Juni 2023: Alumnae-Me
 eting\n\nEin Anlass für ehemalige und aktuelle Clubpräsidentinnen sowie eh
 emalige und aktive Mitglieder des Zentralvorstands\n\nThema: Wer sind wir 
 – wo wollen wir hin? Analyse\, Herausforderungen\, Handlungsempfehlungen\;
  Präsentation und Diskussion der Resultate der Mitgliederbefragung von BPW
  Switzerland\n\nOrt                 Parkhotel Langenthal\, Weststrasse 90\
 , 4900 Langenthal\n                      (info@parkhotel-langenthal.ch)\n
 \n17:00 Uhr      Eintreffen der Präsidentinnen und Gäste (Check-in individ
 uell)\n\n18:00 Uhr      Alumnae-Meeting mit Aperitif\n\n20.00 Uhr      Abe
 ndessen\n\nSamstag\, 3. Juni 2023: Delegiertenversammlung\n\nOrt          
                Parkhotel Langenthal\, Weststrasse 90\, 4900 Langenthal\n  
                              (info@parkhotel-langenthal.ch)\n\n08.30 Uhr  
              Empfang\, Begrüssungskaffee\n\n10 bis 12 Uhr         Workshop
 s\n\nWorkshop 1: BPW werden und BPW bleiben – Ideen und Lösungsansätze für
  BPW Clubs\n(mit Andrea Bläsi\, Claudine Esseiva\, Souad Hächler und Sandr
 a Fröhlich)\n\nWorkshop 2: Pimp your Linkedin – Welches Potential steckt i
 n meinem Profil für meine eigene Visibilität?\n(mit Joanne Kim und Sheerah
  Kim) Hinweis: Dieser Workshop wird simultan ins Französische übersetzt.\n
 \nWorkshop 3: Reverse Mentoring – Wie können die verschiedenen Generatione
 n bei BPW voneinander lernen und profitieren? (mit Sandra Jauslin)\n\nWork
 shop 4: Frauenthemen? Gibt es nicht! - Politisch denken\, handeln\, Verant
 wortung übernehmen\n(mit Myriam Heidelberger und Beatrice Lüthi\, Past Pre
 sident BPW Switzerland)\n\n12 bis 14 Uhr          Mittagessen\n\n14 bis 17
  Uhr          Delegiertenversammlung in der Westhalle A\n\n18.30 Uhr      
           Aperitif\n\n19.30 Uhr                Jubiläums-Galadinner in der
  Westhalle B\n\nGut zu wissen:\n\n\n	\n	Am Wochenende der Delegiertenversamm
 lung 2023 sind alle BPW\, Interessent:innen und ihre Partner:innen eingela
 den\, ein inspirierendes Wochenende in Langenthal zu verbringen.\n	\n	\n	Part
 ner:innen sind samstags am Galadinner herzlich willkommen. Am Samstagnachm
 ittag hat BPW Club Oberaargau ein interessantes Programm eigens für Partne
 r:innen zusammengestellt. Alle Informationen dazu finden sich im Einladung
 sflyer.\n	\n	\n	Die Anmeldung für unser Wochenende der Delegiertenversammlung
  wird mit einem Ticketsystem realisiert. Damit stellen Sie sich ihr Progra
 mm individuell zusammen und bezahlen bequem per Kreditkarte\, Twint oder w
 ie bisher auf Rechnung. Nach der Zahlung erhalten Sie das Ticket elektroni
 sch. Aus diesem Grund müssen für Partner:innen eigene Tickets gelöst werde
 n.\n	\n	\n	Bis zum 5. Mai 2023 gelten die Early Bird Tarife. Um vom Early Bir
 d Tarif zu profitieren\, aktivieren Sie beim Kauf ihres Tickets den Rabatt
 code DV23 und klicken auf das rote Plus.\n	\n	\n	Die Anmeldung ist verbindlic
 h. Bei Abmeldung bis zum 22.05.2023 wird eine Gebühr von CHF 30.00 fällig.
  Später – oder bei fehlender Abmeldung – die gesamte Teilnahmegebühr.\n	\n	
 \n	Ab dem 25. Mai 2023 kann nur noch der Besuch der Delegiertenversammlung 
 gebucht werden\, ohne Konsumation\, Rahmen- oder Partner:innenprogramm.\n	
 \n\n\nDie Anmeldung ist geschlossen. Für eine Teilnahme an der Delegierten
 versammlung ohne Rahmenprogramm\, schreiben Sie bitte eine Email an info@b
 pw.ch.\n\n
DTSTART:20230602T000000
DTEND:20230603T235900
LOCATION:Parkhotel Langenthal
ORGANIZER:MAILTO:BPW Switzerland <davos@bpw.ch>
SUMMARY:Delegierten-Versammlung 2023 
END:VEVENT
END:VCALENDAR
