BEGIN:VCALENDAR
VERSION:2.0
PRODID:-//BPW Switzerland//NONSGML kigkonsult.se iCalcreator 2.16.12//
METHOD:PUBLISH
X-MS-OLK-FORCEINSPECTOROPEN:TRUE
BEGIN:VEVENT
UID:20260422T115802CEST-9507FXDbVG@BPW Switzerland
DTSTAMP:20260422T095802Z
DESCRIPTION:\nThe BPW Europe working group 'Learning for Leadership' of hig
 hly experienced international trainers invite BPW and non-BPW members to t
 he 5th round of specially developed digital leadership training for women 
 only. Join the BPW Leadership Training and find answers to your questions\
 , develop your personal career plan and go on your way as a confident fema
 le leader!\n\nFind the link to the registration form here\n\n\nWhat does t
 his workshop offer?\n\n\n	\n	Safe space to experiment different methodology 
 & develop leadership skills\n	\n	\n	Intimate\, small learning groups\n	\n	\n	Tra
 ining by experienced women for other women\n	\n	\n	Intensive exchange in grou
 p work\n	\n	\n	Work in a tandem on your leadership journey\n	\n	\n	Networking an
 d best practice sharing\n	\n	\n	​International group of participants and trai
 ners\n	\n	\n	Excellent hand-out with links & further reading\n	\n	\n	Different b
 ackgrounds & personalities of trainers guarantee that different perspectiv
 es & depths of subjects are offered.\n	\n\n\nIs this workshop for me?\n\nIt
  is appropriate for women in leadership positions\, business owners\, entr
 epreneurs\, startup founders and ambitious women who are ready to take the
  next step in their professional career. Are you willing to take the risk?
 \n\nPROGRAM\nFriday\, 10.03.2023\n12.30h – 17.00h (CET)\nWelcome and Intro
 duction\nBlock 1: Self-Awareness\; Vision\n\nFriday\, 17.03.2023\n12.30h –
  17.00h (CET)\nBlock 2: Drive\, Control\n\nFriday\, 24.03.2023\n12.30h - 1
 7.00h (CET)\nBlock 3: Communication\, Situational Awareness\n\nEnd of the 
 training\nCosts:\nThe total amount of 270 EURO (BPW Members) and 300 EURO 
 (BPW Non-members) includes also a comprehensive digital workbook.\n\nSchol
 arships for Young BPW:\nBPW Europe will offer scholarships for Young BPW m
 embers. Nomination process will start in January 2023. For more informatio
 n\, please contact Young BPW Representative Sheerah Kim (sheerah.kim@bpw.c
 h).\n \n\n
DTSTART:20230310T123000
DTEND:20230324T170000
LOCATION:Online via Zoom
ORGANIZER:MAILTO:BPW Switzerland <davos@bpw.ch>
SUMMARY:Leadership Training for Women: Be a Better Leader!
END:VEVENT
END:VCALENDAR
