BEGIN:VCALENDAR
VERSION:2.0
PRODID:-//BPW Switzerland//NONSGML kigkonsult.se iCalcreator 2.16.12//
METHOD:PUBLISH
X-MS-OLK-FORCEINSPECTOROPEN:TRUE
BEGIN:VEVENT
UID:20260422T114416CEST-6445kLJju7@BPW Switzerland
DTSTAMP:20260422T094416Z
DESCRIPTION: \nYoung BPW Switzerland is introducing various platforms in 20
 23 to upgrade its collaboration to the next level. This training is highly
  recommended and restricted to official Young Representatives and optional
  for member of boards of BPW Clubs in Switzerland.\n\nGoal: Learn how to e
 ffectively use Canva for promo material and social media posts of your BPW
  Club\, how to boost your local Young BPW events on LinkedIn and to collab
 orate on projects and initaitives on a joint workspace on Slack.\n\nWhen: 
 Monday\, 30 January 2023\, 11:45-13:15 CET // Monday\, 3 April 2023 11:45-
 13:15\nWho: Young BPW Representatives of Clubs in Switzerland\nWhere: Zoom
  (login information will be provided on a later stage via e-mail)\nModerat
 or: Sheerah Kim\, Young Representative of BPW Switzerland\nLanguage(s): Tr
 aining in English\, Questions can be asked in German and French\n\nRegistr
 ation links:\n\nRegister here for Monday\, 30 January 2023\, 11:45-13:15 C
 ET\nRegister here for Monday\, 3 April 2023 11:45-13:15 CET\n\n\n
DTSTART:20230130T114500
DTEND:20230130T130000
LOCATION:Online via Zoom
ORGANIZER:MAILTO:BPW Switzerland <davos@bpw.ch>
SUMMARY:Young BPW Training for Representatives (Canva\, LinkedIn\, Slack)
END:VEVENT
END:VCALENDAR
