BEGIN:VCALENDAR
VERSION:2.0
PRODID:-//BPW Switzerland//NONSGML kigkonsult.se iCalcreator 2.16.12//
METHOD:PUBLISH
X-MS-OLK-FORCEINSPECTOROPEN:TRUE
BEGIN:VEVENT
UID:20260422T112829CEST-5807dzn3fx@BPW Switzerland
DTSTAMP:20260422T092829Z
DESCRIPTION: \nBPW Europe invites to a yearly face-2-face meeting and Gener
 al Assembly in Brussels from 28 until 30 April 2023.\n \n\nAgenda\n\nSpeci
 al EUROPE DAY on Fri\, 28 April 2023\n\nInvited: all BPW and guests\nThe f
 ull day program ist for free. Find all information about the agenda and re
 gistration here. \n\n\n	\n	Visit the European Parliament\n	\n	\n	Workshops and 
 presentations around the art of lobbying\n	\n	\n	Roundtable with other EU Wom
 en’s Organizations directly at Amazone\n	\n	\n	Dinner: Meet & Greet with BPW 
 Europpe Presidents\n	\n\n\nGeneral Assembly BPW Europe on Sat\, 29 April 20
 23\n\nInvited: BPW Country Presidents and official delegates\nHost: ECC Eu
 ropean Coordination Committee of BPW Europe\nChair: Anu Viks\, Regional Co
 ordinator BPW Europe\nTheme: 'Effective cooperation to create more visibil
 ity for women in Europe'\n\n\n	\n	The General Assembly will be a closed sess
 ion for presidents and official delegates of BPW Europe country affiliates
 \n	\n\n\n10th Young BPW Symposium on Sat\, 29 April 2023\n\nThe 10th Young 
 BPW Symposium will take place at the same time and at the same venue!\nInv
 ited: Young BPW members in Europe\, anyone who is interested to engage wit
 h Young BPW\nHost and Chair: Alice Minuto\, Young Representative BPW Europ
 e\nThe registration for the 10th Young BPW Symposium will open soon!\n\n\n
 	\n	The Young BPW Symposium will take place at the same time and in the same
  location as the General Assembly of BPW Europe\, and is open to all membe
 rs and guests\n	\n\n\n\nPlease find all the information about the agenda\, 
 accomondations and registration here: https://www.bpw-europe.org/f2fpresid
 ents-youngbpwsymposium-brussels2023/\n \n\n
DTSTART:20230428T120000
DTEND:20230430T130000
LOCATION:Brussels
ORGANIZER:MAILTO:BPW Switzerland <davos@bpw.ch>
SUMMARY:Presidents Meeting & 10th Young BPW Symposium in Brussels 2023
END:VEVENT
END:VCALENDAR
