BEGIN:VCALENDAR
VERSION:2.0
PRODID:-//BPW Switzerland//NONSGML kigkonsult.se iCalcreator 2.16.12//
METHOD:PUBLISH
X-MS-OLK-FORCEINSPECTOROPEN:TRUE
BEGIN:VEVENT
UID:20260422T112753CEST-4704Kt27E0@BPW Switzerland
DTSTAMP:20260422T092753Z
DESCRIPTION:Die BPW Clubs Basel und Baselland laden zu einer Online-Veranst
 altung ein:\n\nIn unserer Online-Veranstaltungsreihe «Erfahrungsschatz Ber
 uf / Karriere UND Familie» zeigen wir auf\, wie es durch strategische Plan
 ung gelingen kann\, Karriere und Familie unter einen Hut zu bringen.\nWas 
 braucht es dafür? Wann beginne ich zu planen? Wen muss ich involvieren? Wi
 e spreche ich die Themen an?\n\nWir haben dazu 3 Referentinnen eingeladen\
 , die mit ihren beruflichen und persönlichen Hintergründen das Thema von u
 nterschiedlichen Blickwinkeln her beleuchten. Es handelt sich dabei um:\n
 \n\n	\n	Regula Rütti\, Mandatsleiterin der Fachstelle UND\n	\n	\n	Heidi Stocker
 \, Leiterin Personal bei IWB\n	\n	\n	Astrid Giebel\, Head of Product Manageme
 nt DACH bei Pierre Fabre\n	\n\n\nWir sprechen mit dieser Veranstaltung Frau
 en an\, die sich in unterschiedlichen Phasen der Familienplanung befinden 
 und Frauen\, die bereits ihre Learnings beitragen können / möchten.\n\nDie
 se kostenfreie Veranstaltung ist eine Initiative der BPW Clubs Basel und B
 aselland.\n\nKosten: keine\n\nHier geht es zur Anmeldung. \n\nAnmeldeschlu
 ss: Freitag\, 27. Januar 2023\n\nDer Link zur Online-Veranstaltung wird ku
 rz vor Veranstaltung gemailt.\n\n 
DTSTART:20230130T190000
DTEND:20230130T203000
LOCATION:Online via Zoom
ORGANIZER:MAILTO:BPW Switzerland <davos@bpw.ch>
SUMMARY:Karriere und Familie strategisch planen – (wie) geht das?
END:VEVENT
END:VCALENDAR
