BEGIN:VCALENDAR
VERSION:2.0
PRODID:-//BPW Switzerland//NONSGML kigkonsult.se iCalcreator 2.16.12//
METHOD:PUBLISH
X-MS-OLK-FORCEINSPECTOROPEN:TRUE
BEGIN:VEVENT
UID:20260422T115255CEST-4722uLUUng@BPW Switzerland
DTSTAMP:20260422T095255Z
DESCRIPTION:\n\nThis is an event of OWIT Lake Geneva in collaboration with 
 BPW Switzerland\, alliance F\, SWONET\, Foraus\, Junior Diplomat Initiativ
 e.\n\nPlease register here.\n\nOWIT Lake Geneva is happy to invite you to 
 ’Managing your career and care responsibilities’ event\, organized in part
 nership with cinfo.\nHow to successfully manage your career combined with 
 care responsibilities: a face-to-face conference with national and interna
 tional speakers on different elements including gender equality to bring m
 ore insights about challenges for women.\n\nDuring this event\, our main f
 ocus will be on:\n\n\n	\n	Consider international careers in trade or interna
 tional cooperation\n	\n	\n	Show-case role models with international careers i
 n trade and international cooperation juggling with care responsibilities
 \n	\n	\n	What is a flexwork model such as top sharing to make a career while 
 working parttime\n	\n\n\nKeyNote speakers:\n\n\n	\n	Nadine Brou\, Programme O
 fficer at UNAIDS\n	\n	\n	Valérie Ducrot\, Executive Director at Global Gas Ce
 ntre\n	\n\n\nSpeakers:\n\n\n	\n	Irenka Krone-Germann\, co-Director at cinfo\n
 	\n	\n	Nora Landheer\, Senior HR Advisor at cinfo\n	\n\n\nAnimated by:\nHulya 
 Kurt\, Business & Family Coach/Mentor/Facilitator/Author/Trainer\n\nIn col
 laboration with BPW Switzerland\, alliance F\, SWONET\, Foraus\, Junior Di
 plomat Initiative.\n\nAgenda:\n\n\n	\n	5’ Introduction Infos OWIT by Katarzy
 na Grzesik-Harz\, Executive Vice President at OWIT Lake Geneva\n	\n	\n	5’ Ser
 vices cinfo by Nora Landheer\n	\n	\n	10’ Q&A/ Interactive exchanges\n	\n	\n	15’ 
 Testimonial: Nadine Brou from / public sector\n	\n	\n	15’ Testimonial: Valéri
 e Ducrot / private sector (both speakers will illustrate examples of work-
 life balance).\n	\n	\n	10’ Q&A/ Interactive exchanges\n	\n	\n	5’ Additional info
 rmation by cinfo / Irenka Krone about flexwork arrangements in the IC (bas
 ed on the last study of cinfo) and information about job and top sharing m
 odels (focused on the new guide).\n	\n	\n	5’ Information by OWIT about mentor
 ing activities.\n	\n	\n	10’ Q&A/ Interactive exchanges\n	\n	\n	25’ Aperitif\n	\n
 \n\nThe hosts\, Iulia (president@owit-lakegeneva.org) and Kasia (e-vicepre
 sident@owit-lakegeneva.org) remain at your disposal for any further inform
 ation.\n\nWe look forward to seeing you there!\nOWIT Lake Geneva Team\n\n
 \n
DTSTART:20230309T183000
DTEND:20230309T203000
LOCATION:The Graduate Institute\, Room S8\, Chemin Eugène-Rigot 2\, 1202 Ge
 nève
ORGANIZER:MAILTO:BPW Switzerland <davos@bpw.ch>
SUMMARY:Managing your career and care responsibilities in partnership with 
 cinfo 
END:VEVENT
END:VCALENDAR
