BEGIN:VCALENDAR
VERSION:2.0
PRODID:-//BPW Switzerland//NONSGML kigkonsult.se iCalcreator 2.16.12//
METHOD:PUBLISH
X-MS-OLK-FORCEINSPECTOROPEN:TRUE
BEGIN:VEVENT
UID:20260422T114416CEST-34815WFcIH@BPW Switzerland
DTSTAMP:20260422T094416Z
DESCRIPTION: \nWir freuen uns sehr\, diesen Workshop im Rahmen unserer Kamp
 agne «Frauen in die Cheffe-Etagen» all unseren Mitgliedern anzubieten.\n\n
 Was ist #IAmRemarkable?\n\n#IAmRemarkable ist eine weltweite Initiative vo
 n Google\, mit der alle – insbesondere aber unterrepräsentierte Gruppen – 
 ermutigt werden sollen\, ihre Erfolge zu feiern – im Arbeitsleben und darü
 ber hinaus.\n\nIn diesem Workshop erfahrt Ihr\, wie wichtig es im privaten
  und beruflichen Umfeld ist\, sich selbst gut zu präsentieren. Ihr erhalte
 t ausserdem Anregungen für die praktische Umsetzung im Alltag.\n\nDieser W
 orkshop wird von Evelyn Leu durchgeführt.\n\nWährend 90 Minuten werden die
  Teilnehmenden:\n\n\n	\n	Darüber nachdenken\, welche Glaubenssätze uns limit
 ieren\, wenn es um self-promotion geht\n	\n	\n	Mehr über Forschung hinter sel
 f-promotion erfahren und weshalb diese mit viel Voreingenommenheit einherg
 eht\n	\n	\n	Eine Übung absolvieren\, welche dabei unterstützt\, die eigenen E
 rfolge zu erkennen und mit anderen zu teilen\n	\n	\n	Diese diskutieren und we
 iterführende Übungen für zuhause erhalten\n	\n\n\nWann: Am 8. Juni 2023\, m
 ittags von 12 Uhr bis 13.30 Uhr\n\nWo: Online via Google Meet\n\nSprache: 
 Dieser Workshop findet in deutscher Sprache statt.\n\nWer kann teilnehmen?
 \nBis zu 20 BPW-Mitglieder und Interessentinnen.\n\nWeitere Informationen:
 \n\nEs handelt sich hiermit um einen interaktiven Workshop über Mittag\, b
 ei welchem alle Teilnehmenden eingeladen sind\, mitzumachen. Um sicherzust
 ellen\, dass sich aktiv einbringen können und sich wohlfühlen\, ist die An
 zahl Teilnehmerinnen auf 20 beschränkt.\n\nWir bitten um Anmeldung bis zum
  30. Mai 2023 hier.\n\n\n
DTSTART:20230608T120000
DTEND:20230608T133000
LOCATION:Online via Google Meet 
ORGANIZER:MAILTO:BPW Switzerland <davos@bpw.ch>
SUMMARY:#IAmRemarkable Workshop auf Deutsch
END:VEVENT
END:VCALENDAR
