BEGIN:VCALENDAR
VERSION:2.0
PRODID:-//BPW Switzerland//NONSGML kigkonsult.se iCalcreator 2.16.12//
METHOD:PUBLISH
X-MS-OLK-FORCEINSPECTOROPEN:TRUE
BEGIN:VEVENT
UID:20260422T115117CEST-6935dwD3lg@BPW Switzerland
DTSTAMP:20260422T095117Z
DESCRIPTION: \n\n BPW Club Thun lädt ein:\n\n'EIN ESSEN SCHMECKT IN GESELLS
 CHAFT BESSER!'\n\ndeshalb seien Sie dabei!\n\nWas erwartet Sie?\nWir genie
 ssen in der Stockhorn Arena ein gemeinsames Abendessen\, nutzen diese einm
 alige Plattform\, um das Netzwerk auszubauen und halten spannende Gespräch
 e mit Personen aus Politik\, Gesellschaft und Wirtschaft.\n\nWann?\nFreita
 g\, 18. August 2023\, ab 18.00 Uhr\n\nWas?\nApéro\, Hauptgang\, Dessert so
 wie Getränke\n\nWo?\nFrei nach dem Motto «mitten drin\, nicht nur dabei» f
 indet dieser Anlass auf dem Hauptspielfeld in der Stockhornarena statt.\n
 \nWozu?\nGemütliches Beisammensein\, geniessen der speziellen Atmosphäre u
 nd Musik von Fabienne Hostettler & Band.\nDer Erlös des Abend kommt vollum
 fänglich der Region Thun zu Gute\, denn Ziel des Anlass ist die Jugendförd
 erung sowie die Unterstützung des Frauenhaus Thun. Die Aufteilung der Spen
 den erfolgt zu:\n40% FC Rot-Schwarz Thun Frauen\n10% Nachwuchsförderung vo
 m FC Thun\n50% Frauenhaus Thun\n\nWie?\nAnmeldung via Anmeldebutton unten.
 \nAchtung! Beim Kauf des Tickets ist in den Bemerkungen einzutragen\, welc
 hes Menü gewünscht ist: Fleisch oder Vegi. Standard Menü ist Fleisch wenn 
 nichts anderes angegeben.\n\nPreis?\nCHF 100.-- pro Person all inclusive (
 Essen und Getränke)\n\nMenü bitte bei Ticketbuchung wählen bzw. angeben.\n
 \nVorspeise\nMini Schinkengipfeli\, Mini Chäs Chüechli\, Pizza Ecken (Marg
 herita und Prosciutto)\n***\nHauptgang\nSommersalat mit Radisli\, Granatap
 fel\, Gartenkräuter\, Balsamico Dressing\, Basilikumöl und rosa gebratenes
  Roastbeef\nVegan:\nSommersalat mit Radisli\, Granatapfel\, Gartenkräuter\
 , Balsamico Dressing\, leichte Currysauce und indische Gemüse Pakoras\n***
 \nDessert\nPink Lady (Joghurt\, Himbeere und weisse Schokolade)\nFrüchtesa
 lat\nKuchen\n\nÜbernachten?\nIm The Lab Hotel haben wir Sonderkonditionen 
 bekommen. Die Zimmer sind vom 17. - 21. August 2023 zu diesen Preisen buch
 bar. Die Preise sind wie folgt: CHF 185.-- für einen 'Easy Room' oder CHF 
 215.-- für einen 'Casual Room'. Buchen ist hier möglich oder via Gutschein
 code: BPW Club Thun.\n\nZur Anmeldung \n\n
DTSTART:20230818T180000
DTEND:20230818T220000
LOCATION:Stockhornarena Thun
ORGANIZER:MAILTO:BPW Switzerland <davos@bpw.ch>
SUMMARY:BPW Club Thun lädt ein in die Stockhornarena
END:VEVENT
END:VCALENDAR
