BEGIN:VCALENDAR
VERSION:2.0
PRODID:-//BPW Switzerland//NONSGML kigkonsult.se iCalcreator 2.16.12//
METHOD:PUBLISH
X-MS-OLK-FORCEINSPECTOROPEN:TRUE
BEGIN:VEVENT
UID:20260422T102446CEST-5217TOwjhC@BPW Switzerland
DTSTAMP:20260422T082446Z
DESCRIPTION:Die Davoser Zeitung\, das Kaffee Klatsch und die BPW Davos Klos
 ters organisieren gemeinsam den Wiiber Hengert. Er findet jeweils ab 19 Uh
 r im Kleinen Kaffee Klatsch statt.\n\nBei einem Podiumsgespräch mit der Fr
 auenärztin Manuela Fritschi\, der Geschäftsleiterin der Bündner Krebsliga\
 , Bettina Weber und Lilo Giuri als Direktbetroffene wird das Thema unter d
 er Leitung der Psychologin Annemiek Balk-Salzgeber angegangen. Kompetent u
 nd feinfühlig mit genügend Zeit für weiterführende Fragen. \n\nIm Anschlus
 s offeriert Svea Meyer vom Kaffee Klatsch eine Suppe über der Weiterdiskut
 iert werden kann und soll. \nEine kleine Ausstellung mit Informationsmater
 ial zum Thema rundet den Abend ab.\n\nDer Anlass ist öffentlich und der Ei
 ntritt gratis. Konsumationen (ausgenommen die Suppe) müssen bezahlt werden
 . Es ist keine Anmeldung notwendig. \n
DTSTART:20230830T190000
DTEND:20230830T210000
ORGANIZER:MAILTO:BPW Switzerland <davos@bpw.ch>
SUMMARY:Wiiber Hengert
END:VEVENT
END:VCALENDAR
