BEGIN:VCALENDAR
VERSION:2.0
PRODID:-//BPW Switzerland//NONSGML kigkonsult.se iCalcreator 2.16.12//
METHOD:PUBLISH
X-MS-OLK-FORCEINSPECTOROPEN:TRUE
BEGIN:VEVENT
UID:20260422T112916CEST-8104Pw2W4x@BPW Switzerland
DTSTAMP:20260422T092916Z
DESCRIPTION:«SOCIALKICK» POWERED BY REGION PRÄTTIGAU/DAVOS & GEMEINDE DAVOS
  \n \nAls Unternehmen oder Verein ist es oft eine Herausforderung\, sich m
 it dem schnelllebigen Thema Digital Marketing auseinanderzusetzen. Es fehl
 en Zeit\, Geld und Knowhow. Der Kurs «socialkick» richtet sich an KMUs und
  Vereine und ermöglicht einen Kickstart im Social Media Marketing. Die Kur
 steilnehmenden erlangen Kompetenzen in Konzeption\, Umsetzung und Controll
 ing von Massnahmen in sozialen Netzwerken wie Facebook\, Instagram oder Ti
 kTok.\n \nDie Kursteilnehmenden erhalten zudem Zugriff auf die digitalkick
 -Plattform mit Kursunterlagen inklusive Checklisten\, Tipps und «best prac
 tices». Nach dem Ende des Kurses erhalten die Teilnehmenden ein persönlich
 es Coaching (max. 1 Stunde) zu ihren individuellen Social Media Massnahmen
 .\n \nDaten   \nMittwoch\, 23. August 2023 Kickoff und Überblick\nMittwoch
 \, 06. September 2023 Strategie\nMittwoch\, 20. September 2023 Taktik und 
 Content\nMittwoch\, 04. Oktober 2023 Massnahmen\, Controlling und Reportin
 g\nMittwoch\, 25. Oktober 2023 Outlook\n \nDurchführungsort         \nSpor
 tanlage Oberhof\, Tersierstrasse 9\, Schiers\n \nAusrüstung      \nLaptop 
 und Zugangsdaten zu den bestehenden Social Media Kanälen\n \nKosten\nAb 75
 0.-  (anstatt CHF 1900.-)\n \nDie Berghilfe übernimmt 50% deiner Kurskoste
 n\nMitarbeitende von privatwirtschaftlichen Unternehmen in Berggebieten\, 
 welche über weniger als 50 Vollzeitäquivalente verfügen\, können vom Weite
 rbildungsbonus von 50% der Berghilfe profitieren.\n \nDie Region Prättigau
 /Davos übernimmt 200.- deiner Kurskosten\nWohnst du in der Region\, dann ü
 bernimmt die Region Prättigau/Davos weitere CHF 200.- der Kurskosten. Dies
  prüfen wir nach Eingang der Anmeldung.\n \nAnmeldung und weiter Informati
 onen auf digitalkick.ch\n \n 
DTSTART:20230823T000000
DTEND:20230823T235900
ORGANIZER:MAILTO:BPW Switzerland <davos@bpw.ch>
SUMMARY:'Socialkick'
END:VEVENT
END:VCALENDAR
