BEGIN:VCALENDAR
VERSION:2.0
PRODID:-//BPW Switzerland//NONSGML kigkonsult.se iCalcreator 2.16.12//
METHOD:PUBLISH
X-MS-OLK-FORCEINSPECTOROPEN:TRUE
BEGIN:VEVENT
UID:20260422T121615CEST-67966Auwnu@BPW Switzerland
DTSTAMP:20260422T101615Z
DESCRIPTION: \nWir freuen uns sehr\, aufgrund des grossen Interesses einen 
 weiteren #IamRemarkable-Workshop im Rahmen unserer Kampagne «Frauen in die
  Cheffe-Etagen» anzubieten.\n\nWas ist #IAmRemarkable?\n\n#IAmRemarkable i
 st eine weltweite Initiative von Google\, mit der alle – insbesondere aber
  unterrepräsentierte Gruppen – ermutigt werden sollen\, ihre Erfolge zu fe
 iern – im Arbeitsleben und darüber hinaus.\n\nIn diesem Workshop erfahrt I
 hr\, wie wichtig es im privaten und beruflichen Umfeld ist\, sich selbst g
 ut zu präsentieren. Ihr erhaltet ausserdem Anregungen für die praktische U
 msetzung im Alltag.\n\nDieser Workshop wird von Saskia Toennesmann durchge
 führt.\n\nWährend 90 Minuten werden die Teilnehmenden:\n\n\n	\n	Darüber nach
 denken\, welche Glaubenssätze uns limitieren\, wenn es um self-promotion g
 eht\n	\n	\n	Mehr über Forschung hinter self-promotion erfahren und weshalb di
 ese mit viel Voreingenommenheit einhergeht\n	\n	\n	Eine Übung absolvieren\, w
 elche dabei unterstützt\, die eigenen Erfolge zu erkennen und mit anderen 
 zu teilen\n	\n	\n	Diese diskutieren und weiterführende Übungen für zuhause er
 halten\n	\n\n\nWann: Am 14. September 2023\, mittags von 12 Uhr bis 13.30 U
 hr\n\nWo: Online via Google Meet\n\nSprache: Dieser Workshop findet in deu
 tscher Sprache statt.\n\nWer kann teilnehmen?\nBis zu 20 BPW-Mitglieder un
 d Interessentinnen.\n\nWeitere Informationen:\n\nEs handelt sich hiermit u
 m einen interaktiven Workshop über Mittag\, bei welchem alle Teilnehmenden
  eingeladen sind\, mitzumachen. Um sicherzustellen\, dass sich aktiv einbr
 ingen können und sich wohlfühlen\, ist die Anzahl Teilnehmerinnen auf 20 b
 eschränkt.\n\nWir bitten um Anmeldung bis zum 10. September 2023 hier.\n\n
 \n
DTSTART:20230914T120000
DTEND:20230914T133000
LOCATION:Online via Google Meet 
ORGANIZER:MAILTO:BPW Switzerland <davos@bpw.ch>
SUMMARY:#IAmRemarkable Workshop auf Deutsch
END:VEVENT
END:VCALENDAR
