BEGIN:VCALENDAR
VERSION:2.0
PRODID:-//BPW Switzerland//NONSGML kigkonsult.se iCalcreator 2.16.12//
METHOD:PUBLISH
X-MS-OLK-FORCEINSPECTOROPEN:TRUE
BEGIN:VEVENT
UID:20260422T103226CEST-0379DbSn0e@BPW Switzerland
DTSTAMP:20260422T083226Z
DESCRIPTION: \nWe are delighted to announce the next round of BPW Leadershi
 p Training for Women! Our three half-day interactive online training will 
 be held on Fridays\, September 29th\, October 6th  and 13th 2023 from 12:3
 0-17:00 CET.\n\n What is the workshop about?\nThis inspirational and pract
 ical program is designed to empower women in achieving their personal and 
 professional goals and enhance their management and leadership skills by m
 eans of theory\, practical exercises and shared experience. It will enable
  you to learn about the different aspects of leadership and develop your o
 wn personal leadership style.\n\n Is this workshop for me?\nIt is appropri
 ate for women in leadership positions\, business owners\, entrepreneurs\, 
 start-uppers and ambitious women who are ready to take the next step in th
 eir professional career. \n\nMore details on the program content and regis
 tration can be found here. \n\nBPW Europe offers scholarships for Young BP
 W (<35y) who want to participate in this leadership training.\n\nIf you ha
 ve Young BPWs in your clubs/are a Young member yourself\, who would benefi
 t from our offer\, kindly write a short and informal motivational note to 
 conny.montague@t-online.de and anu.viks@bpw-europe.org with the following 
 information:\n\n- My interest in the LTW:\n- My BPW roles and background:
 \n- I am committed to do all 3 parts of the programme (3 consecutive Frida
 y afternoons CET)!\n\nPROGRAM\nFriday\, 29.9.2023\n12.30h – 17.00h (CET)\n
 Welcome and Introduction\nBlock 1: Self-Awareness\; Vision\n\nFriday\, 6.1
 0.2023\n12.30h – 17.00h (CET)\nBlock 2: Drive\, Control\n\nFriday\, 13.10.
 2023\n12.30h - 17.00h (CET)\nBlock 3: Communication\, Situational Awarenes
 s See less\n\nTrainers:\nConny R Montague / Anu Viks / Sabine Grosser / Pe
 tya BARRAUD/ Ann Wood\n/ Sheerah Kim\n\nPlaces are limited\, so hurry up a
 nd register!\n \n\n\n 
DTSTART:20230929T123000
DTEND:20231013T170000
LOCATION:Online
ORGANIZER:MAILTO:BPW Switzerland <davos@bpw.ch>
SUMMARY:Leadership Training for Women 
END:VEVENT
END:VCALENDAR
