BEGIN:VCALENDAR
VERSION:2.0
PRODID:-//BPW Switzerland//NONSGML kigkonsult.se iCalcreator 2.16.12//
METHOD:PUBLISH
X-MS-OLK-FORCEINSPECTOROPEN:TRUE
BEGIN:VEVENT
UID:20260422T114559CEST-01679srBU3@BPW Switzerland
DTSTAMP:20260422T094559Z
DESCRIPTION:\nBPW auf den Spuren von Natur und Nachhaltigkeit\n\nHerzliche 
 Einladung zur BPW Herbstkonferenz 2023\n\nDie Gastgeber:innen von BPW Club
  Lenzburg und BPW Switzerland freuen sich sehr\, alle BPW\, Interessent:in
 nen und Gäste herzlich nach Lenzburg zur diesjährigen Herbstkonferenz einz
 uladen.\n\nProgramm Vormittag\n\nab 08.45 Uhr Registration und Begrüssungs
 kaffee\n09.45 – 12.00 Uhr Offizieller Teil der Herbstkonferenz von BPW Swi
 tzerland\n12.00 – 12.30 Uhr Apéro\n12.30 – 14.00 Uhr Mittagessen    \n\nPr
 ogramm Nachmittag\n\n\n	\n	Museum Stapferhaus - Besuch der aktuellen Ausstel
 lung: natur. und wir? – Es finden zwei Führungen statt: Eine in deutscher 
 Sprache und eine in französischer Sprache. Bitte beachtet die Sprachauswah
 l bei der Anmeldung. Die Platzzahl ist bei beiden Führungen beschränkt.\n	
 \n	\n	Ehemaliges Hero-Areal: Auf den Spuren von Ravioli\, Konfi und Co. (Füh
 rung auf Deutsch)\n	\n	\n	Wisa Gloria-Areal & Gloria CoWorking - im Dunst von
  roten Dreirädern und weissblauen Schaukelschwänen (Führung auf Deutsch)\n
 	\n	\n	Traitafina Turnzentrum Aargau - Neues Turnzentrum des Aargauer Turnver
 bandes (Führung auf Deutsch)\n	\n\n\nDie Führungen finden alle in Gehdistan
 z vom Tagungsort statt. Es empfiehlt sich\, bequemes Schuhwerk zu tragen.
 \n\n\nDie offizielle Einladung und das gesamte Progamm finden sich hier.\n
  \n\nGut zu wissen:\n\n\n	\n	Für alle\, die gerne schon am Freitagabend anre
 isen möchten\, sind im Hotel Ochsen in Lenzburg Zimmer zu Vorzugspreisen r
 eserviert (Vermerk: BPW).  Kontakt: info@ochsen-lenzburg.ch\, 062 886 40 8
 0. Die vergünstigten Preise gelten bis zum 15. September 2023. \n	\n	\n	Die T
 agungsgebühr beträgt CHF 120.-\n	\n	\n	Die Anmeldung wird ab dem 23. August 2
 023 bis zum 13. Oktober 2023 hier offen sein.  \n	\n	\n	Bei Abmeldungen bis z
 um 13. Oktober 2023 wird eine Stornierungsgebühr von CHF 30 pro Person in 
 Rechnung gestellt. Nach diesem Zeitpunkt oder bei fehlender Abmeldung wird
  die gesamte Teilnahmegebühr fällig.\n	\n\n\nZur Anmeldung\n\n\n\n 
DTSTART:20231021T000000
DTEND:20231021T235900
LOCATION:Katholisches Pfarreizentrum Lenzburg
ORGANIZER:MAILTO:BPW Switzerland <davos@bpw.ch>
SUMMARY:Herbstkonferenz BPW Switzerland
END:VEVENT
END:VCALENDAR
