BEGIN:VCALENDAR
VERSION:2.0
PRODID:-//BPW Switzerland//NONSGML kigkonsult.se iCalcreator 2.16.12//
METHOD:PUBLISH
X-MS-OLK-FORCEINSPECTOROPEN:TRUE
BEGIN:VEVENT
UID:20260420T155531CEST-3784UgHVUm@BPW Switzerland
DTSTAMP:20260420T135531Z
DESCRIPTION:Das St. Galler Kosmetikunternehmen «Mila d'Opiz» ist fest in Fr
 auenhand. Chefin Caroline Studer führt das Lebenswerk ihrer Grossmutter se
 it 14 Jahren erfolgreich in die Zukunft. Sie setzt dabei gezielt auf Innov
 ationen aus dem eigenen Labor. So wurden zum Beispiel inhouse Multistammze
 llen-Cremen oder eine Reinigungslinie auf Microbiome-Basis entwickelt. Qua
 ntensprünge in der Kosmetik gibt es immer wieder. Wichtig für Caroline Stu
 der ist vor allem der Wertewandel zu einem enkeltauglichen Umgang mit der 
 Natur. Die Herstellung aller Produkte erfolgt am Standort St. Gallen.\n\n
 \n Caroline Studer (*1964) hat zunächst eine Ausbildung zur Primarlehrerin
  absolviert und danach die HSG mit dem Bachelor abgeschlossen. Nach einige
 n Jahren als Lehrerin verbrachte sie ein Jahr in Südafrika und war dort an
  der Reorganisation der Verkaufsabteilung eines Unternehmens beteiligt. Zu
 rück in der Schweiz trat Caroline Studer ins Familienunternehmen im Bereic
 h Personalabteilung und Einkauf ein. Nach sieben Jahren folgte eine Neuori
 entierung: Die Mutter von zwei Kindern kehrte zurück ins Klassenzimmer und
  absolvierte nebenberuflich ein Psychologiestudium. Seit 2008 steht Caroli
 ne Studer wieder im Dienst der M. Opitz & Co. AG. 2012 wurde Sie Geschäfts
 führerin des Familienunternehmens\, 2018 Stieg mit Tochter Jenny Widmer be
 reits die vierte Generation ins Unternehmen ein und per 1. Januar 2021 ist
  Caroline Studer nun stolze Inhaberin & CEO des Unternehmens mit den eigen
 en Brands Mila d’Opiz\, Derma Science und JK by Mila d’Opiz.\n\nMenu\nHäpp
 chen-Trilogie Sélection Meisen\n(beim Apéro auf den Stehtischen verteilt)
 \n***\nGefüllte Maispoulardenbrust\nSteinpilz Risotto\nGlasierte Karotten
 \n\noder\n\nSpinat Roulade\nSteinpilz Risotto\n***\nFlammeri mit frischen 
 Früchten\n\nOrt\nZunfthaus zur Meisen\nMünsterhof 20\n8001 Zürich\nhttp://
 www.zunfthaus-zur-meisen.ch/\n\nVeranstaltungsdatum: \nMittwoch\, 13.09.20
 23\, 18 Uhr\n\nAnmeldeschluss\nSonntag\, 10.09.2023 18.00 Uhr\n\nDiese Ver
 anstaltung wird von BPW Club Zürich durchgeführt. Zur Anmeldung gelangen S
 ie hier. \n\nIhre Anmeldung ist verbindlich. Sollten Sie dem Anlass ohne A
 bmeldung fernbleiben oder sich nach dem Abmeldetermin abmelden\, werden Ih
 nen CHF 80 in Rechnung gestellt.\n\nAbmeldeschluss (079 635 23 35 oder sus
 ilandolf@bluewin.ch)\nDienstag\, 12.09.2023\, 10.00 Uhr\n\nFotomaterial: W
 ährend der Veranstaltungen werden Fotos gemacht und auf LinkedIn geteilt. 
 Bei explizitem Wunsch\, nicht auf Fotos zu erscheinen\, bitten wir Sie\, d
 irekt auf die Fotografin zuzugehen.
DTSTART:20230913T180000
DTEND:20230913T220000
LOCATION:Zunfthaus zur Meisen
ORGANIZER:MAILTO:BPW Switzerland <davos@bpw.ch>
SUMMARY:Mila d'Opiz - Ein Familienunternehmen seit der Gründung 1938 fest i
 n Frauenhänden
END:VEVENT
END:VCALENDAR
