BEGIN:VCALENDAR
VERSION:2.0
PRODID:-//BPW Switzerland//NONSGML kigkonsult.se iCalcreator 2.16.12//
METHOD:PUBLISH
X-MS-OLK-FORCEINSPECTOROPEN:TRUE
BEGIN:VEVENT
UID:20260422T103250CEST-6811Am84Tu@BPW Switzerland
DTSTAMP:20260422T083250Z
DESCRIPTION:Das Vereinsjahr 2024 steht unter dem Motto Digital.\nDer Auftak
 t machen wir\, indem wir einem Influencer auf den Zahn fühlen. Wer sind di
 ese Menschen\, die diesen völlig neuen Beruf ausüben? Ist das überhaupt ei
 n Beruf? Lernen wir Fabian Egger\, den Praktikanten\, kennen.\n\nDazu tref
 fen wir uns im Restaurant Miraina im Tempelgadä an der Landstrasse 159 in 
 Klosters. \nDas Menue mit einem gemischten Salat gefolgt von einem Hackbra
 ten mit Nudeln und Rüebli oder alternativ Kartoffelgnocchi mit Thymiansauc
 e und Rüebli und gekrönt von einem Kürbiskernenkrokant-Parfait mit Kirsche
 nkompott verspricht schon mal Gutes.\nDie Kosten belaufen sich auf 43 Fran
 ken pro Person.  \n\nHier könnt ihr euch bis Sonntagabend\, 7. Januar\, fü
 r die Teilnahme eintragen. Bei Abmeldungen nach diesem Termin ist der Kons
 umationsbetrag auf jeden Fall fällig. \n
DTSTART:20240110T190000
DTEND:20240110T213000
ORGANIZER:MAILTO:BPW Switzerland <davos@bpw.ch>
SUMMARY:Influencer – der Praktikant
END:VEVENT
END:VCALENDAR
