BEGIN:VCALENDAR
VERSION:2.0
PRODID:-//BPW Switzerland//NONSGML kigkonsult.se iCalcreator 2.16.12//
METHOD:PUBLISH
X-MS-OLK-FORCEINSPECTOROPEN:TRUE
BEGIN:VEVENT
UID:20260422T120357CEST-1963vAJzC0@BPW Switzerland
DTSTAMP:20260422T100357Z
DESCRIPTION:Die Kerzenlichtfeier ist ein gemeinsamer Anlass aller BPW rund 
 um die Welt\, bei dem wir all unserer Schwestern gedenken. Unsere internat
 ionale Präsidentin Dr. Catherine Bosshart hat hierzu eine Botschaft\, die 
 sie uns hier übermittelt. \n\nWir hiesigen BPW treffen uns im von Sprecher
  Haus an der Prättigauerstrasse 6 in Davos Dorf. Dort werden wir vor dem N
 achtessen eine Runde Eisminigolf spielen. Der Preis hierfür beträgt 10 Fra
 nken pro Person. \nAnschliessend geniessen wir ein feines Nachtessen mit 
 \n\nMarronicrèmesuppe mit Sahnehäubchen \n....\nPoulet Piccata mit Tomaten
 sauce mit Getreide-Risotto\noder\nCrémiges Getreide-Risotto mit grillierte
 n Randen\n....\nWarmer Apfelstrudel mit Vanilleglace und Rahm\n\nDer Preis
  beträgt 30 Franken. Die Getränke gehen separat.\n\nHier könnt ihr euch fü
 r die Teilnahme anmelden.
DTSTART:20240214T190000
DTEND:20240214T213000
ORGANIZER:MAILTO:BPW Switzerland <davos@bpw.ch>
SUMMARY:Kerzenlichtfeier 
END:VEVENT
END:VCALENDAR
