BEGIN:VCALENDAR
VERSION:2.0
PRODID:-//BPW Switzerland//NONSGML kigkonsult.se iCalcreator 2.16.12//
METHOD:PUBLISH
X-MS-OLK-FORCEINSPECTOROPEN:TRUE
BEGIN:VEVENT
UID:20260422T112634CEST-6310ZcXgHP@BPW Switzerland
DTSTAMP:20260422T092634Z
DESCRIPTION:Zur Mitgliederversammlung treffen wir uns dieses Jahr im Restau
 rant Wynegg in Klosters.\n\nAuf dem Menue stehen neben den statutarischen 
 Geschäften\n- Schaumsuppe vom Bündner Safran mit Blutorangensorbet\n- „Wyn
 egg“ Pizokels mit Trauben\, Baumnüssen\, Honig & Taleggio\n- Gebrannte Crè
 me mit Apfelsorbet & Totenbeinli\nWir rechnen mit einem Preis von etwa 50 
 Franken\, die Verhandlungen sind allerdings noch nicht abgeschlossen. \;-)
 \nDie Getränke werden vom Club übernommen\n\nHier könnt ihr euch für die T
 eilnahme eintragen. 
DTSTART:20240313T190000
DTEND:20240313T213000
ORGANIZER:MAILTO:BPW Switzerland <davos@bpw.ch>
SUMMARY:Mitgliederversammlung 
END:VEVENT
END:VCALENDAR
