BEGIN:VCALENDAR
VERSION:2.0
PRODID:-//BPW Switzerland//NONSGML kigkonsult.se iCalcreator 2.16.12//
METHOD:PUBLISH
X-MS-OLK-FORCEINSPECTOROPEN:TRUE
BEGIN:VEVENT
UID:20260422T112758CEST-9802aX9UJ5@BPW Switzerland
DTSTAMP:20260422T092758Z
DESCRIPTION:Für den Businesslunch treffen wir uns im Restaurant Scala im Ho
 tel Europe in Davos.\nDas Scala ist auch in der Zwischensaison ein beliebt
 er und gut besuchter Ort. Dennoch dürfen wir aus der Speisekarte frei auss
 uchen und Jessica Schmid\, die das Unternehmen seit dem Tod ihres Mannes v
 or zwei Jahren alleine führt\, hat versprochen\, sich zu uns zu setzen. Da
 s verspricht ein spannendes Zusammenkommen zu werden. \nAuf jeden Fall kön
 nt ihr euch hier schon eintragen.\n\n 
DTSTART:20240515T120000
DTEND:20240515T140000
ORGANIZER:MAILTO:BPW Switzerland <davos@bpw.ch>
SUMMARY:Businesslunch Davos
END:VEVENT
END:VCALENDAR
