BEGIN:VCALENDAR
VERSION:2.0
PRODID:-//BPW Switzerland//NONSGML kigkonsult.se iCalcreator 2.16.12//
METHOD:PUBLISH
X-MS-OLK-FORCEINSPECTOROPEN:TRUE
BEGIN:VEVENT
UID:20260422T123409CEST-5684TcaRkc@BPW Switzerland
DTSTAMP:20260422T103409Z
DESCRIPTION:Wirtschaftsforum für Frauen im Rheintal\n\n\n\n\nBei der Anmeld
 ung die Option 'Ich bin Mitglied bei BPW Switzerland und profitiere vom Mi
 tgliederrabatt' ankreuzen. Der Mitgliederrabatt beträgt CHF 30.-. Anmeldes
 chluss ist der 10. Mai 2011.\n \nBusinesstag\nWirtschaftsforum für Frauen 
 im Rheintal\nFL-9490 Vaduz\n\n www.businesstag.li\n\n
DTSTART:20110517T160000
DTEND:20110517T190000
LOCATION:Vaduz
ORGANIZER:MAILTO:BPW Switzerland <davos@bpw.ch>
SUMMARY:4. Businesstag für Frauen
END:VEVENT
END:VCALENDAR
