BEGIN:VCALENDAR
VERSION:2.0
PRODID:-//BPW Switzerland//NONSGML kigkonsult.se iCalcreator 2.16.12//
METHOD:PUBLISH
X-MS-OLK-FORCEINSPECTOROPEN:TRUE
BEGIN:VEVENT
UID:20260422T102359CEST-7443UIHmc3@BPW Switzerland
DTSTAMP:20260422T082359Z
DESCRIPTION:Gemeinsam besuchen wir den Schlussaccord des Festivals. Gerne s
 ind bei diesem Anlass auch Partner eingeladen.\nDas City Light Symphony Or
 chestra unter der Leitung von Kevin Griffiths Musik präsentiert Musik aus 
 oscarprämierten Filmen\, die in Ausschnitten auch zu sehen sein werden – v
 on James Bond bis Indiana Jones\, von Star Wars bis Harry Potter. Der Konz
 ertsaal der Arena Klosters wird zum besonderen Kino mit Grossbildleinwand\
 , Popcorn und Live-Musik.\n\nMichaela hat für uns BPW 20 Plätze zu 100 Fra
 nken an bester Lage reserviert. Der Anmeldeschluss ist der 30. April\, ans
 chliessend werden ungenutze Tickets an den Veranstalter zurückgegeben. Wir
  BPW treffen uns bereits um 16 Uhr bei Michaela in ihrer Sport Lodge. Sie 
 bereitet  für uns einen Apéro zu 15 Franken vor.  Anschliessend verschiebe
 n wir uns in die Arena Klosters. Die Rechnung für Konzertbesuch und Apéro 
 wird im Mai durch Michaela gestellt.\n \nDie Anmeldung ist geschlossen.\n 
DTSTART:20240804T170000
DTEND:20240804T190000
ORGANIZER:MAILTO:BPW Switzerland <davos@bpw.ch>
SUMMARY:Klosters Music
END:VEVENT
END:VCALENDAR
