BEGIN:VCALENDAR
VERSION:2.0
PRODID:-//BPW Switzerland//NONSGML kigkonsult.se iCalcreator 2.16.12//
METHOD:PUBLISH
X-MS-OLK-FORCEINSPECTOROPEN:TRUE
BEGIN:VEVENT
UID:20260422T131110CEST-3372ZBNdH2@BPW Switzerland
DTSTAMP:20260422T111110Z
DESCRIPTION:Vom Club Chur haben wir die folgende Einladung erhalten:\n\nLie
 be Kolleginnen aus den Clubs Davos-Klosters\, Engadin\, Glarus und Rappers
 wil\nLiebe Frauen von BPW Liechtenstein\n\nHeidi und ich\, wir freuen uns\
 , euch schon mal das Save the Date für den Regionalanlass 2024 mitteilen z
 u können.\nWir organisieren gerne am Freitag\, 6. September 2024\, ab 16 U
 hr ein entdeckungs- und genussreiches Treffen in Chur. \nBitte informiert 
 eure Mitglieder u/o verweist auf unsere Veranstaltungsseite. Details zum P
 rogramm und zur Anmeldung folgen.\nBezugnehmend auf den Mailverkehr unten 
 seid ihr\, liebe Liechtensteinerinnen\, herzlich zum Regionalanlass eingel
 aden. \n\nHerzliche Grüsse\nRuth | Co-Präsidentin Club Chur
DTSTART:20240906T160000
DTEND:20240906T203000
ORGANIZER:MAILTO:BPW Switzerland <davos@bpw.ch>
SUMMARY:Regionalanlass
END:VEVENT
END:VCALENDAR
