BEGIN:VCALENDAR
VERSION:2.0
PRODID:-//BPW Switzerland//NONSGML kigkonsult.se iCalcreator 2.16.12//
METHOD:PUBLISH
X-MS-OLK-FORCEINSPECTOROPEN:TRUE
BEGIN:VEVENT
UID:20260422T131134CEST-0107w3V2Kg@BPW Switzerland
DTSTAMP:20260422T111134Z
DESCRIPTION:Conny lädt uns zu sich in 1560 Fashion Point an der Promenade 1
 14 Davos Platz ein\, um ihre Modegeschichte zu teilen.\nEs wird einen Apér
 o mit Häppchen geben\, der 25 Franken pro Frau kostet. Dieses Geld wird Co
 nny aber gleich an die \nKrebsliga Graubünden weiterleiten. Optional kann 
 auch ein T-Shirt 'Frauensache' zu 25 Franken erworben werden. Auch dieser 
 Betrag geht an das Projekt 'Frauensache'.\n\n\nAnmeldung bitte bis am Mont
 ag\, 7. Oktober. 
DTSTART:20241009T190000
DTEND:20241009T213000
ORGANIZER:MAILTO:BPW Switzerland <davos@bpw.ch>
SUMMARY:Einführungsreferat
END:VEVENT
END:VCALENDAR
