BEGIN:VCALENDAR
VERSION:2.0
PRODID:-//BPW Switzerland//NONSGML kigkonsult.se iCalcreator 2.16.12//
METHOD:PUBLISH
X-MS-OLK-FORCEINSPECTOROPEN:TRUE
BEGIN:VEVENT
UID:20260422T130836CEST-0715uMKvnA@BPW Switzerland
DTSTAMP:20260422T110836Z
DESCRIPTION:Auch dieses Jahr gibt uns Michaela in der Sport Lodge in Kloste
 rs Gastrecht. \nWas auf dem Menü steht\, wird hier noch nicht verraten. So
  viel sei aber gesagt: Es hat etwas mit dem Weltkongress in St. Kitts and 
 Nevis zu tun. Lasst euch überraschen.\n\nDer Preis ist wie immer 50 Franke
 n. Der Überschuss wird zugunsten unseres Spendenprojekts One planet sustai
 nables beiseite gelegt.\n\nGenau so wie der Erlös aus dem Verkauf 'aus Küc
 he und Keller'. Wie jedes Jahr sind die BPW eingeladen\, Selbstgemachtes m
 itzubringen. Beim so zusammenkommenden Bazar kann gekauft/ersteigert werde
 n. Zum Schluss gehen möglichst viele tolle Angebote mit den BPW nach Hause
  und ein weiterer Batzen äuffnet das Konto unseres Spendenprojekts. \n\nHi
 er ist der Link zum Einschreiben.
DTSTART:20241113T190000
DTEND:20241113T213000
ORGANIZER:MAILTO:BPW Switzerland <davos@bpw.ch>
SUMMARY:Der Vorstand kocht
END:VEVENT
END:VCALENDAR
