BEGIN:VCALENDAR
VERSION:2.0
PRODID:-//BPW Switzerland//NONSGML kigkonsult.se iCalcreator 2.16.12//
METHOD:PUBLISH
X-MS-OLK-FORCEINSPECTOROPEN:TRUE
BEGIN:VEVENT
UID:20260422T125619CEST-4217wk9iDk@BPW Switzerland
DTSTAMP:20260422T105619Z
DESCRIPTION:Für die Weihnachtsfeier treffen wir uns im Gasthaus Höhwald in 
 Monbiel. \nFür einmal konnte sich der Vorstand auf kein festes Menue einig
 en. Darum dürft ihr eue Menue selbst zusammenstellen. Es gibt:\n\nAls Vors
 peise:\nKaramellisierte Blumenkohlschaumsuppe und eingelegter Blumenkohl\n
 oder\nNüsslisalat mit Speck\, Ei\, Croûtons\n\nAls Hauptgericht: \nGeschmo
 rte Kalbskopfbäggli mit Kartoffelpüree und Gemüse\noder\nGebratenes Wolfsb
 arschfilet mit Weissweinrisotto und Spinat\noder\nGetrüffelte Krautflecker
 l\, hausgemachte Pasta\, Kabis\, Quitte und Trüffel\n\nAls Dessert:\nTopfe
 nknödel mit Zwetschgenragout und Butterbrösel\noder\nSchokoladentarte mit 
 Birne und Zimt\n\nDas Ganze kostet 68 Franken pro Person. Die einzelnen Me
 nübestandteile sind im Nuudle aufgeführt. Bitte gebt an\, was ihr mögt. \n
 \nDer Apéro und die Getränke werden vom Club übernommen. \n\nWie immer bri
 ngen alle ein Geschenk im Wert von circa 20 Franken mit\, mit dem wir jewe
 ils eine andere erfreuen können. \n\nAb 18.46 Uhr fährt ab Bahnhof Kloster
 s ein Bus nach Monbiel. Bis wir mit dem Essen fertig sind\, fährt allerdin
 gs kein Bus mehr zurück. Wer diesen Weg wählt\, hat also Gelegenheit das W
 eihnachtsmahl auf dem Weg zurück nach Klosters zu verdauen. \nAlternativ g
 ibt es in Monbiel Parkplätze. Das ist dann für jene\, die eher gemütlich u
 nterwegs sein wollen. \nAuf jeden Fall treffen wir uns alle um 19 Uhr beim
  Gasthaus. \n\nBitte meldet euch wie immer hier an. \n\n \n
DTSTART:20241204T190000
DTEND:20241204T213000
ORGANIZER:MAILTO:BPW Switzerland <davos@bpw.ch>
SUMMARY:Weihnachtsfeier
END:VEVENT
END:VCALENDAR
