BEGIN:VCALENDAR
VERSION:2.0
PRODID:-//BPW Switzerland//NONSGML kigkonsult.se iCalcreator 2.16.12//
METHOD:PUBLISH
X-MS-OLK-FORCEINSPECTOROPEN:TRUE
BEGIN:VEVENT
UID:20260422T102456CEST-6647SIJuWL@BPW Switzerland
DTSTAMP:20260422T082456Z
DESCRIPTION:Die entweder/oder Frau\n\nProgramm\n\n\n	17:00 Saalöffnung\n	17:3
 0 Begrüssung\n	\n	17:45 Impulsvortrag „Close the Gaps' von elleXX\n	 Celine M
 eier\, CFO\n	 Nicole Schawalder\, Head of Marketing & Sales\n	\n	18:30 Impuls
 vortrag „New Work'\n	 Anja Knabenhans\, Chefredakteurin AnyWorkingMom.com\n
 	\n	19:15 Impulsvortrag „The future is diverse'\n	 Tijen Onaran\, Global Digi
 tal Women\, Diversity Flüsterin der CEO's\n\n\n\n\n	20:00 Abschlussrunde un
 d Networking (Saalöffnung für Abendbesucher)\n	20:15 Paneldiskussion und of
 fene Diskussionsrunde\n	 Moderation: Sheerah Kim\, BPW Europa/Young BPW\n	 C
 o-Moderation: Carmen Somm\, BPW Kreuzlingen\n	\n	21:00 Networking / Apéro\n
 \n \n\n-> Weitere detaillierte Informationen sowie die Anmeldemöglichkeit 
 finden Sie hier!\n
DTSTART:20230928T150000
DTEND:20230928T200000
LOCATION:Torggel Rosenegg
ORGANIZER:MAILTO:BPW Switzerland <davos@bpw.ch>
SUMMARY:Kind oder Erfolg? Die entweder/oder Frau
END:VEVENT
END:VCALENDAR
