BEGIN:VCALENDAR
VERSION:2.0
PRODID:-//BPW Switzerland//NONSGML kigkonsult.se iCalcreator 2.16.12//
METHOD:PUBLISH
X-MS-OLK-FORCEINSPECTOROPEN:TRUE
BEGIN:VEVENT
UID:20260422T103317CEST-2529WhCO9d@BPW Switzerland
DTSTAMP:20260422T083317Z
DESCRIPTION:\n\n\n\n	\n		\n			\n			\n				\n					\n						\n						\n							\n								\n									Gerne machen wir auf diesen Anlass 
 von Young BPW Schaffhausen aufmerksam!\n									\n									Bist du weiblich\, unter 35 Jahr
 en - und berufstätig?\n									Wir gestalten die Zukunft des Young BPW Schaffhause
 n: Sei dabei.\n									\n									Geniesse mit uns einen spannenden Abend und erweitere dei
 ne berufliche Netzwerkplattform zu interessanten Frauen aus der Region.\n									D
 etails unter www.bpw-schaffhausen.ch/Ueber-uns/Young-BPW\n									\n									\n									Donnerstag 3
 0. November 2023\n									Start 18.00 Uhr - 22.00 Uhr\n									@ SELDA’S Schaffhausen\n									\n									1
 8.00h: \n									Afterwork-Apéro mit Local Food und Drinks vom Selda’s und Speed N
 etworking\n									- Apérogebäck / Foccacia Rosmarin Olivenöl / Hackbraten Pastina
 ke Nuss Butter / Herbstsüppchen in Kaffeetasse\n									- Dazu gibt's eine Willkom
 mensbowle\, lokalen Wein oder ein einheimisches Bier\n									\n									18.30h: \n									Begrüssu
 ng durch den BPW Club Schaffhausen\n									\n									18.45h: \n									#femaleleadership #femalee
 mpowerment #ethicsintech #digitalethics\n									Sheerah Kim (Executive Board Memb
 er BPW Europe and Switzerland\, Co-President of BPW Club Zurich)\n									\n									19.15h
 : \n									Selda’s\, eine weibliche Erfolgsgeschichte\n									Sally Sticher (Geschäftsfü
 hrerin Selda’s Schaffhausen)\n									\n									ab 19.30h: \n									Afterwork-Apéro und Speed Net
 working\n									Open Space - Offener Austausch zu Young BPW Aktivitäten der Zukun
 ft\n									\n									Wir bitten um eure Anmeldung bis Ende Oktober 2023 über Eventfrog Ti
 cketkauf\, CHF 15.00.\n									\n									Kontaktiere uns jederzeit für Fragen oder Inputs\
 , young@bpw-schaffhausen.ch. Wir freuen uns auf euch. \n									Das Young BPW Scha
 ffhausen Projektteam \n									\n									Hier geht es zum offiziellen Veranstaltungsflyer.
  \n									\n									Wir freuen uns auf euch.\n									Das YOUNG BPW - Projektteam.\n								\n							\n						\n						\n					\n				\n			
 \n			\n		\n	\n\n\n\n\n\n 
DTSTART:20231130T180000
DTEND:20231130T220000
LOCATION:SELDA's Schaffhausen
ORGANIZER:MAILTO:BPW Switzerland <davos@bpw.ch>
SUMMARY:Let's initiate - ein Anlass von Young BPW Schaffhausen
END:VEVENT
END:VCALENDAR
