BEGIN:VCALENDAR
VERSION:2.0
PRODID:-//BPW Switzerland//NONSGML kigkonsult.se iCalcreator 2.16.12//
METHOD:PUBLISH
X-MS-OLK-FORCEINSPECTOROPEN:TRUE
BEGIN:VEVENT
UID:20260420T142438CEST-1941mCrnLV@BPW Switzerland
DTSTAMP:20260420T122438Z
DESCRIPTION:Unser Mitglied Annemieke Balk ist eine der Nonnen\, die sich im
  Musical der Musikschule Prättigau 'What now\, nuns? die Frage stellen\, w
 ie es mit ihrem Klosters weitergeht.\nDas dreiteilige Projekt um die Klost
 erschule St. Franz\, begann 2010 mit dem Musical 'Mary Clarence' und erfuh
 r 2015 mit 'St. Franz' seine äusserst erfolgreiche Fortsetzung. Nun findet
  es mit 'What now\, nuns?' seinen Abschluss.  \nDiesem speziellen Ereignis
  sollen möglichst viele BPW beiwohnen und gemeinsam einen anregenden Abend
  erleben. \nWer dabei sein möchte\, besorgt sich Karten zu 35 Franken über
  Ticketino. Das Musical startet um 19.30 Uhr in der Arena Klosters und die
  BPW treffen sich um 19 Uhr vor dem Eingang.\nUm Fahrgemeinschaften zu bil
 den\, habe ich ein Nuudel erstellt. \n 
DTSTART:20231018T193000
DTEND:20231018T223000
ORGANIZER:MAILTO:BPW Switzerland <davos@bpw.ch>
SUMMARY:What now\, nuns?
END:VEVENT
END:VCALENDAR
