BEGIN:VCALENDAR
VERSION:2.0
PRODID:-//BPW Switzerland//NONSGML kigkonsult.se iCalcreator 2.16.12//
METHOD:PUBLISH
X-MS-OLK-FORCEINSPECTOROPEN:TRUE
BEGIN:VEVENT
UID:20260422T112916CEST-2293Ns1Kgh@BPW Switzerland
DTSTAMP:20260422T092916Z
DESCRIPTION:\nWe're excited to announce that Young BPW Switzerland is an of
 ficial partner at the RiseUp Summit 2023 in Zurich! With over 150 expected
  participants\, it's going to be THE biggest female entrepreneur and innov
 ator summit in Switzerland.\n\nOfficial website\n\nhttp://riseupsummit.ch/
 \n\nDate: 20.10.2023\, starts at 09:00\nLocation: Kraftwerk\, Impact Hub Z
 ürich\, https://goo.gl/maps/mfHZY4LB4rZhkn1Z8\nLanguage: English\n\nPrelim
 inary Agenda\n\n09:00-17:00: Young BPW attend conference and host workshop
 \n\n17:00-18:00: Apéro\n\n18:30-23:00: Girls Night Out in Zurich\n\n23:00:
  optional clubbing & accommodation in Zurich\n\nPricing\n\nCHF 39.- YOUNG 
 BPW: All-day package incl. Girls Night Out (15.- conference only)\n\nCHF 5
 9.- BPW MEMBERS AND REGISTERED 'BPW INTERESSENTIN': All-day package incl. 
 Girls Night Out (24.- conference only)\n\nCHF 40.- EXTERNALS GIRLS NIGHT O
 UT: only for dinner and drinks after the conference for non-BPW members\n
 \nRegister now\n\n \n\n\n\n 
DTSTART:20231020T090000
DTEND:20231020T183000
LOCATION:Kraftwerk\, Impact Hub Zürich
ORGANIZER:MAILTO:BPW Switzerland <davos@bpw.ch>
SUMMARY:Young BPW goes Rise Up Summit 2023!
END:VEVENT
END:VCALENDAR
